Workbook

Sheet Dashboard
Y1: RPM Dashboard
B2: Select a Month here | E2: 44652 | Y2: Powered By
B4: S. No. | C4: Name of Card | D4: Minimum Payment | E4: Minimum + Extra Payment
B5: 1 | C5: =Summary!B3 -> American Express | D5: =INDEX(Working!$E$3:$DT$12,MATCH(Dashboard!C5,Working!$C$3:$C$12,0),MATCH(Dashboard!$E$2,Working!$E$2:$DT$2,0)) -> 88 | E5: =INDEX(Working!$E$17:$DT$26,MATCH(Dashboard!C5,Working!$C$17:$C$26,0),MATCH(Dashboard!$E$2,Working!$E$16:$DT$16,0)) -> 247.89015
B6: 2 | C6: =Summary!B4 -> Bank of America | D6: =INDEX(Working!$E$3:$DT$12,MATCH(Dashboard!C6,Working!$C$3:$C$12,0),MATCH(Dashboard!$E$2,Working!$E$2:$DT$2,0)) -> 36 | E6: =INDEX(Working!$E$17:$DT$26,MATCH(Dashboard!C6,Working!$C$17:$C$26,0),MATCH(Dashboard!$E$2,Working!$E$16:$DT$16,0)) -> 36
B7: 3 | C7: =Summary!B5 -> Citi Bank | D7: =INDEX(Working!$E$3:$DT$12,MATCH(Dashboard!C7,Working!$C$3:$C$12,0),MATCH(Dashboard!$E$2,Working!$E$2:$DT$2,0)) -> 340 | E7: =INDEX(Working!$E$17:$DT$26,MATCH(Dashboard!C7,Working!$C$17:$C$26,0),MATCH(Dashboard!$E$2,Working!$E$16:$DT$16,0)) -> 340
B8: 4 | C8: =Summary!B6 -> Chase | D8: =INDEX(Working!$E$3:$DT$12,MATCH(Dashboard!C8,Working!$C$3:$C$12,0),MATCH(Dashboard!$E$2,Working!$E$2:$DT$2,0)) -> 120 | E8: =INDEX(Working!$E$17:$DT$26,MATCH(Dashboard!C8,Working!$C$17:$C$26,0),MATCH(Dashboard!$E$2,Working!$E$16:$DT$16,0)) -> 120
B9: 5 | C9: =Summary!B7 -> Discover | D9: =INDEX(Working!$E$3:$DT$12,MATCH(Dashboard!C9,Working!$C$3:$C$12,0),MATCH(Dashboard!$E$2,Working!$E$2:$DT$2,0)) -> 40 | E9: =INDEX(Working!$E$17:$DT$26,MATCH(Dashboard!C9,Working!$C$17:$C$26,0),MATCH(Dashboard!$E$2,Working!$E$16:$DT$16,0)) -> 40
B10: 6 | C10: =Summary!B8 -> 0 | D10: =INDEX(Working!$E$3:$DT$12,MATCH(Dashboard!C10,Working!$C$3:$C$12,0),MATCH(Dashboard!$E$2,Working!$E$2:$DT$2,0)) -> #N/A | E10: =INDEX(Working!$E$17:$DT$26,MATCH(Dashboard!C10,Working!$C$17:$C$26,0),MATCH(Dashboard!$E$2,Working!$E$16:$DT$16,0)) -> #N/A
B11: 7 | C11: =Summary!B9 -> 0 | D11: =INDEX(Working!$E$3:$DT$12,MATCH(Dashboard!C11,Working!$C$3:$C$12,0),MATCH(Dashboard!$E$2,Working!$E$2:$DT$2,0)) -> #N/A | E11: =INDEX(Working!$E$17:$DT$26,MATCH(Dashboard!C11,Working!$C$17:$C$26,0),MATCH(Dashboard!$E$2,Working!$E$16:$DT$16,0)) -> #N/A
B12: 8 | C12: =Summary!B10 -> 0 | D12: =INDEX(Working!$E$3:$DT$12,MATCH(Dashboard!C12,Working!$C$3:$C$12,0),MATCH(Dashboard!$E$2,Working!$E$2:$DT$2,0)) -> #N/A | E12: =INDEX(Working!$E$17:$DT$26,MATCH(Dashboard!C12,Working!$C$17:$C$26,0),MATCH(Dashboard!$E$2,Working!$E$16:$DT$16,0)) -> #N/A
B13: 9 | C13: =Summary!B11 -> 0 | D13: =INDEX(Working!$E$3:$DT$12,MATCH(Dashboard!C13,Working!$C$3:$C$12,0),MATCH(Dashboard!$E$2,Working!$E$2:$DT$2,0)) -> #N/A | E13: =INDEX(Working!$E$17:$DT$26,MATCH(Dashboard!C13,Working!$C$17:$C$26,0),MATCH(Dashboard!$E$2,Working!$E$16:$DT$16,0)) -> #N/A
B14: 10 | C14: =Summary!B12 -> 0 | D14: =INDEX(Working!$E$3:$DT$12,MATCH(Dashboard!C14,Working!$C$3:$C$12,0),MATCH(Dashboard!$E$2,Working!$E$2:$DT$2,0)) -> #N/A | E14: =INDEX(Working!$E$17:$DT$26,MATCH(Dashboard!C14,Working!$C$17:$C$26,0),MATCH(Dashboard!$E$2,Working!$E$16:$DT$16,0)) -> #N/A
B15: Total Payment | D15: =SUM(D5:D14) -> #N/A | E15: =SUM(E5:E14) -> #N/A
B18: Select a Card here | E18: Bank of America
B20: S. No. | C20: Month | D20: (Cumulative Balance) Mimimum Payment | E20: (Cumulative Balance) Mimimum + Extra Payment | F20: (Cumulative Balance) Mimimum Payment | G20: (Cumulative Balance) Mimimum + Extra Payment
B21: 1 | C21: =Working!E16 -> 44317 | D21: =IF(F21<0,0,F21) -> 1200 | E21: =IF(G21<0,0,G21) -> 1200 | F21: =INDEX(Working!$EB$3:$IQ$12,MATCH(Dashboard!$E$18,Working!$DZ$3:$DZ$12,0),MATCH(Dashboard!C21,Working!$EB$2:$IQ$2,0)) -> 1200 | G21: =INDEX(Working!$EB$17:$IQ$26,MATCH(Dashboard!$E$18,Working!$DZ$17:$DZ$26,0),MATCH(Dashboard!C21,Working!$EB$16:$IQ$16,0)) -> 1200
B22: =B21+1 -> 2 | C22: =EDATE(C21,1) -> 44348 | D22: =IF(F22<0,0,F22) -> 1164 | E22: =IF(G22<0,0,G22) -> 1164 | F22: =INDEX(Working!$EB$3:$IQ$12,MATCH(Dashboard!$E$18,Working!$DZ$3:$DZ$12,0),MATCH(Dashboard!C22,Working!$EB$2:$IQ$2,0)) -> 1164 | G22: =INDEX(Working!$EB$17:$IQ$26,MATCH(Dashboard!$E$18,Working!$DZ$17:$DZ$26,0),MATCH(Dashboard!C22,Working!$EB$16:$IQ$16,0)) -> 1164
B23: =B22+1 -> 3 | C23: =EDATE(C22,1) -> 44378 | D23: =IF(F23<0,0,F23) -> 1128 | E23: =IF(G23<0,0,G23) -> 1128 | F23: =INDEX(Working!$EB$3:$IQ$12,MATCH(Dashboard!$E$18,Working!$DZ$3:$DZ$12,0),MATCH(Dashboard!C23,Working!$EB$2:$IQ$2,0)) -> 1128 | G23: =INDEX(Working!$EB$17:$IQ$26,MATCH(Dashboard!$E$18,Working!$DZ$17:$DZ$26,0),MATCH(Dashboard!C23,Working!$EB$16:$IQ$16,0)) -> 1128
B24: =B23+1 -> 4 | C24: =EDATE(C23,1) -> 44409 | D24: =IF(F24<0,0,F24) -> 1092 | E24: =IF(G24<0,0,G24) -> 1092 | F24: =INDEX(Working!$EB$3:$IQ$12,MATCH(Dashboard!$E$18,Working!$DZ$3:$DZ$12,0),MATCH(Dashboard!C24,Working!$EB$2:$IQ$2,0)) -> 1092 | G24: =INDEX(Working!$EB$17:$IQ$26,MATCH(Dashboard!$E$18,Working!$DZ$17:$DZ$26,0),MATCH(Dashboard!C24,Working!$EB$16:$IQ$16,0)) -> 1092
B25: =B24+1 -> 5 | C25: =EDATE(C24,1) -> 44440 | D25: =IF(F25<0,0,F25) -> 1056 | E25: =IF(G25<0,0,G25) -> 1056 | F25: =INDEX(Working!$EB$3:$IQ$12,MATCH(Dashboard!$E$18,Working!$DZ$3:$DZ$12,0),MATCH(Dashboard!C25,Working!$EB$2:$IQ$2,0)) -> 1056 | G25: =INDEX(Working!$EB$17:$IQ$26,MATCH(Dashboard!$E$18,Working!$DZ$17:$DZ$26,0),MATCH(Dashboard!C25,Working!$EB$16:$IQ$16,0)) -> 1056
B26: =B25+1 -> 6 | C26: =EDATE(C25,1) -> 44470 | D26: =IF(F26<0,0,F26) -> 1020 | E26: =IF(G26<0,0,G26) -> 1020 | F26: =INDEX(Working!$EB$3:$IQ$12,MATCH(Dashboard!$E$18,Working!$DZ$3:$DZ$12,0),MATCH(Dashboard!C26,Working!$EB$2:$IQ$2,0)) -> 1020 | G26: =INDEX(Working!$EB$17:$IQ$26,MATCH(Dashboard!$E$18,Working!$DZ$17:$DZ$26,0),MATCH(Dashboard!C26,Working!$EB$16:$IQ$16,0)) -> 1020
B27: =B26+1 -> 7 | C27: =EDATE(C26,1) -> 44501 | D27: =IF(F27<0,0,F27) -> 984 | E27: =IF(G27<0,0,G27) -> 984 | F27: =INDEX(Working!$EB$3:$IQ$12,MATCH(Dashboard!$E$18,Working!$DZ$3:$DZ$12,0),MATCH(Dashboard!C27,Working!$EB$2:$IQ$2,0)) -> 984 | G27: =INDEX(Working!$EB$17:$IQ$26,MATCH(Dashboard!$E$18,Working!$DZ$17:$DZ$26,0),MATCH(Dashboard!C27,Working!$EB$16:$IQ$16,0)) -> 984
B28: =B27+1 -> 8 | C28: =EDATE(C27,1) -> 44531 | D28: =IF(F28<0,0,F28) -> 948 | E28: =IF(G28<0,0,G28) -> 948 | F28: =INDEX(Working!$EB$3:$IQ$12,MATCH(Dashboard!$E$18,Working!$DZ$3:$DZ$12,0),MATCH(Dashboard!C28,Working!$EB$2:$IQ$2,0)) -> 948 | G28: =INDEX(Working!$EB$17:$IQ$26,MATCH(Dashboard!$E$18,Working!$DZ$17:$DZ$26,0),MATCH(Dashboard!C28,Working!$EB$16:$IQ$16,0)) -> 948
B29: =B28+1 -> 9 | C29: =EDATE(C28,1) -> 44562 | D29: =IF(F29<0,0,F29) -> 912 | E29: =IF(G29<0,0,G29) -> 912 | F29: =INDEX(Working!$EB$3:$IQ$12,MATCH(Dashboard!$E$18,Working!$DZ$3:$DZ$12,0),MATCH(Dashboard!C29,Working!$EB$2:$IQ$2,0)) -> 912 | G29: =INDEX(Working!$EB$17:$IQ$26,MATCH(Dashboard!$E$18,Working!$DZ$17:$DZ$26,0),MATCH(Dashboard!C29,Working!$EB$16:$IQ$16,0)) -> 912
B30: =B29+1 -> 10 | C30: =EDATE(C29,1) -> 44593 | D30: =IF(F30<0,0,F30) -> 876 | E30: =IF(G30<0,0,G30) -> 876 | F30: =INDEX(Working!$EB$3:$IQ$12,MATCH(Dashboard!$E$18,Working!$DZ$3:$DZ$12,0),MATCH(Dashboard!C30,Working!$EB$2:$IQ$2,0)) -> 876 | G30: =INDEX(Working!$EB$17:$IQ$26,MATCH(Dashboard!$E$18,Working!$DZ$17:$DZ$26,0),MATCH(Dashboard!C30,Working!$EB$16:$IQ$16,0)) -> 876
B31: =B30+1 -> 11 | C31: =EDATE(C30,1) -> 44621 | D31: =IF(F31<0,0,F31) -> 840 | E31: =IF(G31<0,0,G31) -> 840 | F31: =INDEX(Working!$EB$3:$IQ$12,MATCH(Dashboard!$E$18,Working!$DZ$3:$DZ$12,0),MATCH(Dashboard!C31,Working!$EB$2:$IQ$2,0)) -> 840 | G31: =INDEX(Working!$EB$17:$IQ$26,MATCH(Dashboard!$E$18,Working!$DZ$17:$DZ$26,0),MATCH(Dashboard!C31,Working!$EB$16:$IQ$16,0)) -> 840
B32: =B31+1 -> 12 | C32: =EDATE(C31,1) -> 44652 | D32: =IF(F32<0,0,F32) -> 804 | E32: =IF(G32<0,0,G32) -> 804 | F32: =INDEX(Working!$EB$3:$IQ$12,MATCH(Dashboard!$E$18,Working!$DZ$3:$DZ$12,0),MATCH(Dashboard!C32,Working!$EB$2:$IQ$2,0)) -> 804 | G32: =INDEX(Working!$EB$17:$IQ$26,MATCH(Dashboard!$E$18,Working!$DZ$17:$DZ$26,0),MATCH(Dashboard!C32,Working!$EB$16:$IQ$16,0)) -> 804
B33: =B32+1 -> 13 | C33: =EDATE(C32,1) -> 44682 | D33: =IF(F33<0,0,F33) -> 768 | E33: =IF(G33<0,0,G33) -> 768 | F33: =INDEX(Working!$EB$3:$IQ$12,MATCH(Dashboard!$E$18,Working!$DZ$3:$DZ$12,0),MATCH(Dashboard!C33,Working!$EB$2:$IQ$2,0)) -> 768 | G33: =INDEX(Working!$EB$17:$IQ$26,MATCH(Dashboard!$E$18,Working!$DZ$17:$DZ$26,0),MATCH(Dashboard!C33,Working!$EB$16:$IQ$16,0)) -> 768
... B140: =B139+1 -> 120 | C140: =EDATE(C139,1) -> 47939 | D140: =IF(F140<0,0,F140) -> 0 | E140: =IF(G140<0,0,G140) -> 0 | F140: =INDEX(Working!$EB$3:$IQ$12,MATCH(Dashboard!$E$18,Working!$DZ$3:$DZ$12,0),MATCH(Dashboard!C140,Working!$EB$2:$IQ$2,0)) -> -384.51765 | G140: =INDEX(Working!$EB$17:$IQ$26,MATCH(Dashboard!$E$18,Working!$DZ$17:$DZ$26,0),MATCH(Dashboard!C140,Working!$EB$16:$IQ$16,0)) -> -384.04125

Sheet Summary
A1: Input Loan Amounts | M1: Minimum Payment | P1: Minimum + Extra Payment
A2: S. No. | B2: Name of Card | C2: Balance | D2: Minimum Payment | E2: APR | F2: Name of Card | G2: Credit Limit | H2: No. of Payments | I2: Pay Off Month | J2: Total Payment | K2: Finance Charges | M2: Particulars | N2: Value | P2: Particulars | Q2: Value | AH2: S. No. | AI2: Name of Card | AJ2: Balance | AK2: Minimum Payment | AL2: APR | AM2: Total Payment | AN2: Finance Charges
A3: =IF(B3="","",1) -> 1 | B3: American Express | C3: 2931 | D3: 88 | E3: 0.2955 | F3: =B3 -> American Express | G3: 27000 | H3: =IF(B3="","",NPER(E3/12,-D3,C3)) -> 70.531626 | I3: =IF(B3="","",EDATE($N$3,H3)) -> 46447 | J3: =IF(B3="",0,VLOOKUP(B3,$AI$2:$AN$12,5,FALSE)) -> 6207.0495 | K3: =IF(B3="",0,VLOOKUP(B3,Summary!$AI$2:$AN$12,6,FALSE)) -> 3276.0495 | M3: Payment start Date | N3: 44317 | P3: =M3 -> Payment start Date | Q3: =N3 -> 44317 | AH3: =IF(AI3="","",1) -> 1 | AI3: =IF(AL3="","",VLOOKUP(AL3,$E$2:$F$12,2,FALSE)) -> American Express | AJ3: =IF(AL3="","",VLOOKUP(AI3,$B$2:$D$12,2,FALSE)) -> 2931 | AK3: =IF(AL3="","",VLOOKUP(AI3,$B$2:$D$12,3,FALSE)) -> 88 | AL3: =IF(B3="","",LARGE($E$3:$E$12,1)) -> 0.2955 | AM3: ='Payment Schedule'!G126 -> 6207.0495 | AN3: ='Payment Schedule'!E126 -> 3276.0495
A4: =IF(B4="","",A3+1) -> 2 | B4: Bank of America | C4: 1200 | D4: 36 | E4: 0.1564 | F4: =B4 -> Bank of America | G4: 7000 | H4: =IF(B4="","",NPER(E4/12,-D4,C4)) -> 44.014288 | I4: =IF(B4="","",EDATE($N$3,H4)) -> 45658 | J4: =IF(B4="",0,VLOOKUP(B4,$AI$2:$AN$12,5,FALSE)) -> 1584.5176 | K4: =IF(B4="",0,VLOOKUP(B4,Summary!$AI$2:$AN$12,6,FALSE)) -> 384.51765 | M4: Month you'll be Debt Free | N4: =LARGE(I3:I12,1) -> 47515 | P4: Month you'll be Debt Free | Q4: =VLOOKUP(0,'Extra Payment Schedule'!$CP$5:$CV$77,7,FALSE)-1 -> 45626 | AH4: =IF(AI4="","",AH3+1) -> 2 | AI4: =IF(AL4="","",VLOOKUP(AL4,$E$2:$F$12,2,FALSE)) -> Discover | AJ4: =IF(AL4="","",VLOOKUP(AI4,$B$2:$D$12,2,FALSE)) -> 832.97 | AK4: =IF(AL4="","",VLOOKUP(AI4,$B$2:$D$12,3,FALSE)) -> 40 | AL4: =IF(B4="","",LARGE($E$3:$E$12,2)) -> 0.2401 | AM4: ='Payment Schedule'!N126 -> 1088.3253 | AN4: ='Payment Schedule'!L126 -> 255.35527
A5: =IF(B5="","",A4+1) -> 3 | B5: Citi Bank | C5: 13752.58 | D5: 340 | E5: 0.1684 | F5: =B5 -> Citi Bank | G5: 22500 | H5: =IF(B5="","",NPER(E5/12,-D5,C5)) -> 60.16714 | I5: =IF(B5="","",EDATE($N$3,H5)) -> 46143 | J5: =IF(B5="",0,VLOOKUP(B5,$AI$2:$AN$12,5,FALSE)) -> 20457.158 | K5: =IF(B5="",0,VLOOKUP(B5,Summary!$AI$2:$AN$12,6,FALSE)) -> 6704.5777 | M5: Total Minimum Payment | N5: =D13 -> 624 | P5: Monthly Payment | Q5: 824 | AH5: =IF(AI5="","",AH4+1) -> 3 | AI5: =IF(AL5="","",VLOOKUP(AL5,$E$2:$F$12,2,FALSE)) -> Chase | AJ5: =IF(AL5="","",VLOOKUP(AI5,$B$2:$D$12,2,FALSE)) -> 6500 | AK5: =IF(AL5="","",VLOOKUP(AI5,$B$2:$D$12,3,FALSE)) -> 120 | AL5: =IF(B5="","",LARGE($E$3:$E$12,3)) -> 0.1721 | AM5: ='Payment Schedule'!U126 -> 12639.701 | AN5: ='Payment Schedule'!S126 -> 6139.7014
A6: =IF(B6="","",A5+1) -> 4 | B6: Chase | C6: 6500 | D6: 120 | E6: 0.1721 | F6: =B6 -> Chase | G6: 18000 | H6: =IF(B6="","",NPER(E6/12,-D6,C6)) -> 105.32927 | I6: =IF(B6="","",EDATE($N$3,H6)) -> 47515 | J6: =IF(B6="",0,VLOOKUP(B6,$AI$2:$AN$12,5,FALSE)) -> 12639.701 | K6: =IF(B6="",0,VLOOKUP(B6,Summary!$AI$2:$AN$12,6,FALSE)) -> 6139.7014 | M6: Interest Paid | N6: ='Payment Schedule'!BW126 -> 16760.202 | P6: Interest Paid | Q6: ='Extra Payment Schedule'!CQ126 -> 8562.6341 | AH6: =IF(AI6="","",AH5+1) -> 4 | AI6: =IF(AL6="","",VLOOKUP(AL6,$E$2:$F$12,2,FALSE)) -> Citi Bank | AJ6: =IF(AL6="","",VLOOKUP(AI6,$B$2:$D$12,2,FALSE)) -> 13752.58 | AK6: =IF(AL6="","",VLOOKUP(AI6,$B$2:$D$12,3,FALSE)) -> 340 | AL6: =IF(B6="","",LARGE($E$3:$E$12,4)) -> 0.1684 | AM6: ='Payment Schedule'!AB126 -> 20457.158 | AN6: ='Payment Schedule'!Z126 -> 6704.5777
A7: =IF(B7="","",A6+1) -> 5 | B7: Discover | C7: 832.97 | D7: 40 | E7: 0.2401 | F7: =B7 -> Discover | G7: 5500 | H7: =IF(B7="","",NPER(E7/12,-D7,C7)) -> 27.206505 | I7: =IF(B7="","",EDATE($N$3,H7)) -> 45139 | J7: =IF(B7="",0,VLOOKUP(B7,$AI$2:$AN$12,5,FALSE)) -> 1088.3253 | K7: =IF(B7="",0,VLOOKUP(B7,Summary!$AI$2:$AN$12,6,FALSE)) -> 255.35527 | AH7: =IF(AI7="","",AH6+1) -> 5 | AI7: =IF(AL7="","",VLOOKUP(AL7,$E$2:$F$12,2,FALSE)) -> Bank of America | AJ7: =IF(AL7="","",VLOOKUP(AI7,$B$2:$D$12,2,FALSE)) -> 1200 | AK7: =IF(AL7="","",VLOOKUP(AI7,$B$2:$D$12,3,FALSE)) -> 36 | AL7: =IF(B7="","",LARGE($E$3:$E$12,5)) -> 0.1564 | AM7: ='Payment Schedule'!AI126 -> 1584.5176 | AN7: ='Payment Schedule'!AG126 -> 384.51765
A8: =IF(B8="","",A7+1) | C8: 0 | D8: 0 | E8: 0 | F8: =B8 -> 0 | G8: 0 | H8: =IF(B8="","",NPER(E8/12,-D8,C8)) | I8: =IF(B8="","",EDATE($N$3,H8)) | J8: =IF(B8="",0,VLOOKUP(B8,$AI$2:$AN$12,5,FALSE)) -> 0 | K8: =IF(B8="",0,VLOOKUP(B8,Summary!$AI$2:$AN$12,6,FALSE)) -> 0 | M8: Monthly Extra Payment | P8: =Q5-N5 -> 200 | AH8: =IF(AI8="","",AH7+1) | AI8: =IF(AL8="","",VLOOKUP(AL8,$E$2:$F$12,2,FALSE)) | AJ8: =IF(AL8="","",VLOOKUP(AI8,$B$2:$D$12,2,FALSE)) | AK8: =IF(AL8="","",VLOOKUP(AI8,$B$2:$D$12,3,FALSE)) | AL8: =IF(B8="","",LARGE($E$3:$E$12,6)) | AM8: ='Payment Schedule'!AP126 -> 0 | AN8: ='Payment Schedule'!AN126 -> 0
A9: =IF(B9="","",A8+1) | C9: 0 | D9: 0 | E9: 0 | F9: =B9 -> 0 | G9: 0 | H9: =IF(B9="","",NPER(E9/12,-D9,C9)) | I9: =IF(B9="","",EDATE($N$3,H9)) | J9: =IF(B9="",0,VLOOKUP(B9,$AI$2:$AN$12,5,FALSE)) -> 0 | K9: =IF(B9="",0,VLOOKUP(B9,Summary!$AI$2:$AN$12,6,FALSE)) -> 0 | AH9: =IF(AI9="","",AH8+1) | AI9: =IF(AL9="","",VLOOKUP(AL9,$E$2:$F$12,2,FALSE)) | AJ9: =IF(AL9="","",VLOOKUP(AI9,$B$2:$D$12,2,FALSE)) | AK9: =IF(AL9="","",VLOOKUP(AI9,$B$2:$D$12,3,FALSE)) | AL9: =IF(B9="","",LARGE($E$3:$E$12,7)) | AM9: ='Payment Schedule'!AW126 -> 0 | AN9: ='Payment Schedule'!AU126 -> 0
A10: =IF(B10="","",A9+1) | C10: 0 | D10: 0 | E10: 0 | F10: =B10 -> 0 | G10: 0 | H10: =IF(B10="","",NPER(E10/12,-D10,C10)) | I10: =IF(B10="","",EDATE($N$3,H10)) | J10: =IF(B10="",0,VLOOKUP(B10,$AI$2:$AN$12,5,FALSE)) -> 0 | K10: =IF(B10="",0,VLOOKUP(B10,Summary!$AI$2:$AN$12,6,FALSE)) -> 0 | M10: Total Interest Saved | P10: =N6-Q6 -> 8197.5675 | AH10: =IF(AI10="","",AH9+1) | AI10: =IF(AL10="","",VLOOKUP(AL10,$E$2:$F$12,2,FALSE)) | AJ10: =IF(AL10="","",VLOOKUP(AI10,$B$2:$D$12,2,FALSE)) | AK10: =IF(AL10="","",VLOOKUP(AI10,$B$2:$D$12,3,FALSE)) | AL10: =IF(B10="","",LARGE($E$3:$E$12,8)) | AM10: ='Payment Schedule'!BD126 -> 0 | AN10: ='Payment Schedule'!BB126 -> 0
A11: =IF(B11="","",A10+1) | C11: 0 | D11: 0 | E11: 0 | F11: =B11 -> 0 | G11: 0 | H11: =IF(B11="","",NPER(E11/12,-D11,C11)) | I11: =IF(B11="","",EDATE($N$3,H11)) | J11: =IF(B11="",0,VLOOKUP(B11,$AI$2:$AN$12,5,FALSE)) -> 0 | K11: =IF(B11="",0,VLOOKUP(B11,Summary!$AI$2:$AN$12,6,FALSE)) -> 0 | AH11: =IF(AI11="","",AH10+1) | AI11: =IF(AL11="","",VLOOKUP(AL11,$E$2:$F$12,2,FALSE)) | AJ11: =IF(AL11="","",VLOOKUP(AI11,$B$2:$D$12,2,FALSE)) | AK11: =IF(AL11="","",VLOOKUP(AI11,$B$2:$D$12,3,FALSE)) | AL11: =IF(B11="","",LARGE($E$3:$E$12,9)) | AM11: ='Payment Schedule'!BK126 -> 0 | AN11: ='Payment Schedule'!BI126 -> 0
A12: =IF(B12="","",A11+1) | C12: 0 | D12: 0 | E12: 0 | F12: =B12 -> 0 | G12: 0 | H12: =IF(B12="","",NPER(E12/12,-D12,C12)) | I12: =IF(B12="","",EDATE($N$3,H12)) | J12: =IF(B12="",0,VLOOKUP(B12,$AI$2:$AN$12,5,FALSE)) -> 0 | K12: =IF(B12="",0,VLOOKUP(B12,Summary!$AI$2:$AN$12,6,FALSE)) -> 0 | M12: No. of months you'll save | P12: =DATEDIF(Q4,N4,"M") -> 62 | AH12: =IF(AI12="","",AH11+1) | AI12: =IF(AL12="","",VLOOKUP(AL12,$E$2:$F$12,2,FALSE)) | AJ12: =IF(AL12="","",VLOOKUP(AI12,$B$2:$D$12,2,FALSE)) | AK12: =IF(AL12="","",VLOOKUP(AI12,$B$2:$D$12,3,FALSE)) | AL12: =IF(B12="","",LARGE($E$3:$E$12,10)) | AM12: ='Payment Schedule'!BR126 -> 0 | AN12: ='Payment Schedule'!BP126 -> 0
C13: =SUM(C3:C12) -> 25216.55 | D13: =SUM(D3:D12) -> 624 | G13: =SUM(G3:G12) -> 80000 | J13: =SUM(J3:J12) -> 41976.752 | K13: =SUM(K3:K12) -> 16760.202 | AJ13: =SUM(AJ3:AJ12) -> 25216.55 | AK13: =SUM(AK3:AK12) -> 624 | AM13: =SUM(AM3:AM12) -> 41976.752 | AN13: =SUM(AN3:AN12) -> 16760.202
A15: Note: Only values in Yellow colored cells need to be added.

Sheet Balance Transfer
A1: Balance Transfer Calculator
A2: S. No. | B2: Name of Card | C2: Current Balance | D2: Credit Limit | E2: Current Interest Rate | F2: Projected Interest Rate | G2: Interest Rate Savings | H2: Estimated Annual Savings* | I2: Balance Transfer Fee in % | J2: Balance Transfer Amt | K2: Transfer Worthy | L2: Suggested Action
A3: =Summary!A3 -> 1 | B3: JP Morgan Chase | C3: 2931 | D3: 13000 | E3: 0.1299 | F3: 0.14 | G3: =E3-F3 -> -0.0101 | H3: =C3*G3 -> -29.6031 | I3: 0.02 | J3: =C3*I3 -> 58.62 | K3: =H3-J3 -> -88.2231 | L3: =IF(K3=0,"-",IF(K3>0,"YES","NO")) -> NO
A4: =Summary!A4 -> 2 | B4: Citi Card | C4: 1200 | D4: 7000 | E4: 0.1474 | F4: 0 | G4: =E4-F4 -> 0.1474 | H4: =C4*G4 -> 176.88 | I4: 0.03 | J4: =C4*I4 -> 36 | K4: =H4-J4 -> 140.88 | L4: =IF(K4=0,"-",IF(K4>0,"YES","NO")) -> YES
A5: =Summary!A5 -> 3 | B5: Discover | C5: 26000 | D5: 27000 | E5: 0.1575 | F5: 0 | G5: =E5-F5 -> 0.1575 | H5: =C5*G5 -> 4095 | I5: 0.05 | J5: =C5*I5 -> 1300 | K5: =H5-J5 -> 2795 | L5: =IF(K5=0,"-",IF(K5>0,"YES","NO")) -> YES
A6: =Summary!A6 -> 4 | G6: =E6-F6 -> 0 | H6: =C6*G6 -> 0 | J6: =C6*I6 -> 0 | K6: =H6-J6 -> 0 | L6: =IF(K6=0,"-",IF(K6>0,"YES","NO")) -> -
A7: =Summary!A7 -> 5 | G7: =E7-F7 -> 0 | H7: =C7*G7 -> 0 | J7: =C7*I7 -> 0 | K7: =H7-J7 -> 0 | L7: =IF(K7=0,"-",IF(K7>0,"YES","NO")) -> -
A8: =Summary!A8 | G8: =E8-F8 -> 0 | H8: =C8*G8 -> 0 | J8: =C8*I8 -> 0 | K8: =H8-J8 -> 0 | L8: =IF(K8=0,"-",IF(K8>0,"YES","NO")) -> -
A9: =Summary!A9 | G9: =E9-F9 -> 0 | H9: =C9*G9 -> 0 | J9: =C9*I9 -> 0 | K9: =H9-J9 -> 0 | L9: =IF(K9=0,"-",IF(K9>0,"YES","NO")) -> -
A10: =Summary!A10 | G10: =E10-F10 -> 0 | H10: =C10*G10 -> 0 | J10: =C10*I10 -> 0 | K10: =H10-J10 -> 0 | L10: =IF(K10=0,"-",IF(K10>0,"YES","NO")) -> -
A11: =Summary!A11 | G11: =E11-F11 -> 0 | H11: =C11*G11 -> 0 | J11: =C11*I11 -> 0 | K11: =H11-J11 -> 0 | L11: =IF(K11=0,"-",IF(K11>0,"YES","NO")) -> -
A12: =Summary!A12 | G12: =E12-F12 -> 0 | H12: =C12*G12 -> 0 | J12: =C12*I12 -> 0 | K12: =H12-J12 -> 0 | L12: =IF(K12=0,"-",IF(K12>0,"YES","NO")) -> -
C13: =SUM(C3:C12) -> 30131 | D13: =SUM(D3:D12) -> 47000 | H13: =SUM(H3:H12) -> 4242.2769 | J13: =SUM(J3:J12) -> 1394.62
A15: Note: Only values in Yellow colored cells need to be added.
A17: * Annual savings is based on the balance of your cards not being paid down
A18: Instructions: After you've been approved for a balance transfer or personal loan
A19: Step 1: Enter the current balance, credit limit, current interest rate, for each of your credit cards or personal loans.
A20: Step 2: Based on the amount of the balance transfer or personal loan you've qualified for, add the projected interest (Note, you may need to break the balance of a card into two rows if you're only able to pay off a portion of the card)
A21: Step 3: Enter in the balance transfer fee as a percentage
A22: Step 4: Review the annual savings and balance transfer amount to see if a card is transfer worthy
A23: Step 5: Complete any balance transfer or loan payoff
A24: Step 6: Add new cards/loans to the Transfer Payment Calc tab

Sheet Payment Schedule
B1: =Summary!AI3 -> American Express | I1: =Summary!AI4 -> Discover | P1: =Summary!AI5 -> Chase | W1: =Summary!AI6 -> Citi Bank | AD1: =Summary!AI7 -> Bank of America | AK1: =Summary!AI8 | AR1: =Summary!AI9 | AY1: =Summary!AI10 | BF1: =Summary!AI11 | BM1: =Summary!AI12 | BT1: Total
B2: Beginning Balance | G2: =Summary!AJ3 -> 2931 | I2: Beginning Balance | N2: =Summary!AJ4 -> 832.97 | P2: Beginning Balance | U2: =Summary!AJ5 -> 6500 | W2: Beginning Balance | AB2: =Summary!AJ6 -> 13752.58 | AD2: Beginning Balance | AI2: =Summary!AJ7 -> 1200 | AK2: Beginning Balance | AP2: =Summary!AJ8 | AR2: Beginning Balance | AW2: =Summary!AJ9 | AY2: Beginning Balance | BD2: =Summary!AJ10 | BF2: Beginning Balance | BK2: =Summary!AJ11 | BM2: Beginning Balance | BR2: =Summary!AJ12 | BT2: Beginning Balance | BY2: =G2+N2+U2+AB2+AI2+AP2+AW2+BD2+BK2+BR2 -> #VALUE!
B3: Annual Percentage Rate (APR) | G3: =Summary!AL3 -> 0.2955 | I3: Annual Percentage Rate (APR) | N3: =Summary!AL4 -> 0.2401 | P3: Annual Percentage Rate (APR) | U3: =Summary!AL5 -> 0.1721 | W3: Annual Percentage Rate (APR) | AB3: =Summary!AL6 -> 0.1684 | AD3: Annual Percentage Rate (APR) | AI3: =Summary!AL7 -> 0.1564 | AK3: Annual Percentage Rate (APR) | AP3: =Summary!AL8 | AR3: Annual Percentage Rate (APR) | AW3: =Summary!AL9 | AY3: Annual Percentage Rate (APR) | BD3: =Summary!AL10 | BF3: Annual Percentage Rate (APR) | BK3: =Summary!AL11 | BM3: Annual Percentage Rate (APR) | BR3: =Summary!AL12 | BT3: Annual Percentage Rate (APR) | BY3: =AVERAGE(G3,N3,U3,AB3,AI3,AP3,AW3,BD3,BK3,BR3) -> 0.2065
B4: Minimum Payment | G4: =Summary!AK3 -> 88 | I4: Minimum Payment | N4: =Summary!AK4 -> 40 | P4: Minimum Payment | U4: =Summary!AK5 -> 120 | W4: Minimum Payment | AB4: =Summary!AK6 -> 340 | AD4: Minimum Payment | AI4: =Summary!AK7 -> 36 | AK4: Minimum Payment | AP4: =Summary!AK8 | AR4: Minimum Payment | AW4: =Summary!AK9 | AY4: Minimum Payment | BD4: =Summary!AK10 | BF4: Minimum Payment | BK4: =Summary!AK11 | BM4: Minimum Payment | BR4: =Summary!AK12 | BT4: Minimum Payment | BY4: =G4+N4+U4+AB4+AI4+AP4+AW4+BD4+BK4+BR4 -> #VALUE!
B5: S. No. | C5: Month | D5: Starting Balance | E5: Finance Charges | F5: New Balance | G5: Minimum Payment | I5: S. No. | J5: Month | K5: Starting Balance | L5: Finance Charges | M5: New Balance | N5: Minimum Payment | P5: S. No. | Q5: Month | R5: Starting Balance | S5: Finance Charges | T5: New Balance | U5: Minimum Payment | W5: S. No. | X5: Month | Y5: Starting Balance | Z5: Finance Charges | AA5: New Balance | AB5: Minimum Payment | AD5: S. No. | AE5: Month | AF5: Starting Balance | AG5: Finance Charges | AH5: New Balance | AI5: Minimum Payment | AK5: S. No. | AL5: Month | AM5: Starting Balance | AN5: Finance Charges | AO5: New Balance | AP5: Minimum Payment | AR5: S. No. | AS5: Month | AT5: Starting Balance | AU5: Finance Charges | AV5: New Balance | AW5: Minimum Payment | AY5: S. No. | AZ5: Month | BA5: Starting Balance | BB5: Finance Charges | BC5: New Balance | BD5: Minimum Payment | BF5: S. No. | BG5: Month | BH5: Starting Balance | BI5: Finance Charges | BJ5: New Balance | BK5: Minimum Payment | BM5: S. No. | BN5: Month | BO5: Starting Balance | BP5: Finance Charges | BQ5: New Balance | BR5: Minimum Payment | BT5: S. No. | BU5: Month | BV5: Starting Balance | BW5: Finance Charges | BX5: New Balance | BY5: Minimum Payment
B6: 1 | C6: =Summary!N3 -> 44317 | D6: =IF(G2="",0,G2) -> 2931 | E6: =IF($G$3="",0,D6*$G$3/12) -> 72.175875 | F6: =SUM(D6:E6) -> 3003.1759 | G6: =IF($G$4="",0,G4) -> 88 | I6: 1 | J6: =Summary!N3 -> 44317 | K6: =IF(N2="",0,N2) -> 832.97 | L6: =IF($N$3="",0,K6*$N$3/12) -> 16.666341 | M6: =SUM(K6:L6) -> 849.63634 | N6: =IF($N$4="",0,N4) -> 40 | P6: 1 | Q6: =Summary!N3 -> 44317 | R6: =IF(U2="",0,U2) -> 6500 | S6: =IF($U$3="",0,R6*$U$3/12) -> 93.220833 | T6: =SUM(R6:S6) -> 6593.2208 | U6: =IF($U$4="",0,U4) -> 120 | W6: 1 | X6: =Summary!N3 -> 44317 | Y6: =IF(AB2="",0,AB2) -> 13752.58 | Z6: =IF($AB$3="",0,Y6*$AB$3/12) -> 192.99454 | AA6: =SUM(Y6:Z6) -> 13945.575 | AB6: =IF($AB$4="",0,AB4) -> 340 | AD6: 1 | AE6: =Summary!N3 -> 44317 | AF6: =IF(AI2="",0,AI2) -> 1200 | AG6: =IF($AI$3="",0,AF6*$AI$3/12) -> 15.64 | AH6: =SUM(AF6:AG6) -> 1215.64 | AI6: =IF($AI$4="",0,AI4) -> 36 | AK6: 1 | AL6: =Summary!N3 -> 44317 | AM6: =IF(AP2="",0,AP2) -> 0 | AN6: =IF($AP$3="",0,AM6*$AP$3/12) -> 0 | AO6: =SUM(AM6:AN6) -> 0 | AP6: =IF($AP$4="",0,AP4) -> 0 | AR6: 1 | AS6: =Summary!N3 -> 44317 | AT6: =IF(AW2="",0,AW2) -> 0 | AU6: =IF($AW$3="",0,AT6*$AW$3/12) -> 0 | AV6: =SUM(AT6:AU6) -> 0 | AW6: =IF($AW$4="",0,AW4) -> 0 | AY6: 1 | AZ6: =Summary!N3 -> 44317 | BA6: =IF(BD2="",0,BD2) -> 0 | BB6: =IF($BD$3="",0,BA6*$BD$3/12) -> 0 | BC6: =SUM(BA6:BB6) -> 0 | BD6: =IF($BD$4="",0,BD4) -> 0 | BF6: 1 | BG6: =Summary!N3 -> 44317 | BH6: =IF(BK2="",0,BK2) -> 0 | BI6: =IF($BK$3="",0,BH6*$BK$3/12) -> 0 | BJ6: =SUM(BH6:BI6) -> 0 | BK6: =IF($BK$4="",0,BK4) -> 0 | BM6: 1 | BN6: =Summary!N3 -> 44317 | BO6: =IF(BR2="",0,BR2) -> 0 | BP6: =IF($BR$3="",0,BO6*$BR$3/12) -> 0 | BQ6: =SUM(BO6:BP6) -> 0 | BR6: =IF($BR$4="",0,BR4) -> 0 | BT6: 1 | BU6: =Summary!N3 -> 44317 | BV6: =D6+K6+R6+Y6+AF6+AM6+AT6+BA6+BH6+BO6 -> 25216.55 | BW6: =E6+L6+S6+Z6+AG6+AN6+AU6+BB6+BI6+BP6 -> 390.69759 | BX6: =F6+M6+T6+AA6+AH6+AO6+AV6+BC6+BJ6+BQ6 -> 25607.248 | BY6: =G6+N6+U6+AB6+AI6+AP6+AW6+BD6+BK6+BR6 -> 624
B7: =B6+1 -> 2 | C7: =EDATE(C6,1) -> 44348 | D7: =F6-G6 -> 2915.1759 | E7: =IF($G$3="",0,D7*$G$3/12) -> 71.786206 | F7: =SUM(D7:E7) -> 2986.9621 | G7: =IF(F7=0,0,IF(F7<G6,F7,G6)) -> 88 | I7: =I6+1 -> 2 | J7: =EDATE(J6,1) -> 44348 | K7: =M6-N6 -> 809.63634 | L7: =IF($N$3="",0,K7*$N$3/12) -> 16.199474 | M7: =SUM(K7:L7) -> 825.83582 | N7: =IF(M7=0,0,IF(M7<N6,M7,N6)) -> 40 | P7: =P6+1 -> 2 | Q7: =EDATE(Q6,1) -> 44348 | R7: =T6-U6 -> 6473.2208 | S7: =R7*$U$3/12 -> 92.836775 | T7: =SUM(R7:S7) -> 6566.0576 | U7: =IF(T7=0,0,IF(T7<U6,T7,U6)) -> 120 | W7: =W6+1 -> 2 | X7: =EDATE(X6,1) -> 44348 | Y7: =AA6-AB6 -> 13605.575 | Z7: =IF($AB$3="",0,Y7*$AB$3/12) -> 190.93156 | AA7: =SUM(Y7:Z7) -> 13796.506 | AB7: =IF(AA7=0,0,IF(AA7<AB6,AA7,AB6)) -> 340 | AD7: =AD6+1 -> 2 | AE7: =EDATE(AE6,1) -> 44348 | AF7: =AH6-AI6 -> 1179.64 | AG7: =IF($AI$3="",0,AF7*$AI$3/12) -> 15.374641 | AH7: =SUM(AF7:AG7) -> 1195.0146 | AI7: =IF(AH7=0,0,IF(AH7<AI6,AH7,AI6)) -> 36 | AK7: =AK6+1 -> 2 | AL7: =EDATE(AL6,1) -> 44348 | AM7: =AO6-AP6 -> 0 | AN7: =IF($AP$3="",0,AM7*$AP$3/12) -> 0 | AO7: =SUM(AM7:AN7) -> 0 | AP7: =IF(AO7=0,0,IF(AO7<AP6,AO7,AP6)) -> 0 | AR7: =AR6+1 -> 2 | AS7: =EDATE(AS6,1) -> 44348 | AT7: =AV6-AW6 -> 0 | AU7: =IF($AW$3="",0,AT7*$AW$3/12) -> 0 | AV7: =SUM(AT7:AU7) -> 0 | AW7: =IF(AV7=0,0,IF(AV7<AW6,AV7,AW6)) -> 0 | AY7: =AY6+1 -> 2 | AZ7: =EDATE(AZ6,1) -> 44348 | BA7: =BC6-BD6 -> 0 | BB7: =IF($BD$3="",0,BA7*$BD$3/12) -> 0 | BC7: =SUM(BA7:BB7) -> 0 | BD7: =IF(BC7=0,0,IF(BC7<BD6,BC7,BD6)) -> 0 | BF7: =BF6+1 -> 2 | BG7: =EDATE(BG6,1) -> 44348 | BH7: =BJ6-BK6 -> 0 | BI7: =IF($BK$3="",0,BH7*$BK$3/12) -> 0 | BJ7: =SUM(BH7:BI7) -> 0 | BK7: =IF(BJ7=0,0,IF(BJ7<BK6,BJ7,BK6)) -> 0 | BM7: =BM6+1 -> 2 | BN7: =EDATE(BN6,1) -> 44348 | BO7: =BQ6-BR6 -> 0 | BP7: =IF($BR$3="",0,BO7*$BR$3/12) -> 0 | BQ7: =SUM(BO7:BP7) -> 0 | BR7: =IF(BQ7=0,0,IF(BQ7<BR6,BQ7,BR6)) -> 0 | BT7: =BT6+1 -> 2 | BU7: =EDATE(BU6,1) -> 44348 | BV7: =D7+K7+R7+Y7+AF7+AM7+AT7+BA7+BH7+BO7 -> 24983.248 | BW7: =E7+L7+S7+Z7+AG7+AN7+AU7+BB7+BI7+BP7 -> 387.12866 | BX7: =F7+M7+T7+AA7+AH7+AO7+AV7+BC7+BJ7+BQ7 -> 25370.376 | BY7: =G7+N7+U7+AB7+AI7+AP7+AW7+BD7+BK7+BR7 -> 624
B8: =B7+1 -> 3 | C8: =EDATE(C7,1) -> 44378 | D8: =F7-G7 -> 2898.9621 | E8: =IF($G$3="",0,D8*$G$3/12) -> 71.386941 | F8: =SUM(D8:E8) -> 2970.349 | G8: =IF(F8=0,0,IF(F8<G7,F8,G7)) -> 88 | I8: =I7+1 -> 3 | J8: =EDATE(J7,1) -> 44378 | K8: =M7-N7 -> 785.83582 | L8: =IF($N$3="",0,K8*$N$3/12) -> 15.723265 | M8: =SUM(K8:L8) -> 801.55908 | N8: =IF(M8=0,0,IF(M8<N7,M8,N7)) -> 40 | P8: =P7+1 -> 3 | Q8: =EDATE(Q7,1) -> 44378 | R8: =T7-U7 -> 6446.0576 | S8: =R8*$U$3/12 -> 92.44721 | T8: =SUM(R8:S8) -> 6538.5048 | U8: =IF(T8=0,0,IF(T8<U7,T8,U7)) -> 120 | W8: =W7+1 -> 3 | X8: =EDATE(X7,1) -> 44378 | Y8: =AA7-AB7 -> 13456.506 | Z8: =IF($AB$3="",0,Y8*$AB$3/12) -> 188.83964 | AA8: =SUM(Y8:Z8) -> 13645.346 | AB8: =IF(AA8=0,0,IF(AA8<AB7,AA8,AB7)) -> 340 | AD8: =AD7+1 -> 3 | AE8: =EDATE(AE7,1) -> 44378 | AF8: =AH7-AI7 -> 1159.0146 | AG8: =IF($AI$3="",0,AF8*$AI$3/12) -> 15.105824 | AH8: =SUM(AF8:AG8) -> 1174.1205 | AI8: =IF(AH8=0,0,IF(AH8<AI7,AH8,AI7)) -> 36 | AK8: =AK7+1 -> 3 | AL8: =EDATE(AL7,1) -> 44378 | AM8: =AO7-AP7 -> 0 | AN8: =IF($AP$3="",0,AM8*$AP$3/12) -> 0 | AO8: =SUM(AM8:AN8) -> 0 | AP8: =IF(AO8=0,0,IF(AO8<AP7,AO8,AP7)) -> 0 | AR8: =AR7+1 -> 3 | AS8: =EDATE(AS7,1) -> 44378 | AT8: =AV7-AW7 -> 0 | AU8: =IF($AW$3="",0,AT8*$AW$3/12) -> 0 | AV8: =SUM(AT8:AU8) -> 0 | AW8: =IF(AV8=0,0,IF(AV8<AW7,AV8,AW7)) -> 0 | AY8: =AY7+1 -> 3 | AZ8: =EDATE(AZ7,1) -> 44378 | BA8: =BC7-BD7 -> 0 | BB8: =IF($BD$3="",0,BA8*$BD$3/12) -> 0 | BC8: =SUM(BA8:BB8) -> 0 | BD8: =IF(BC8=0,0,IF(BC8<BD7,BC8,BD7)) -> 0 | BF8: =BF7+1 -> 3 | BG8: =EDATE(BG7,1) -> 44378 | BH8: =BJ7-BK7 -> 0 | BI8: =IF($BK$3="",0,BH8*$BK$3/12) -> 0 | BJ8: =SUM(BH8:BI8) -> 0 | BK8: =IF(BJ8=0,0,IF(BJ8<BK7,BJ8,BK7)) -> 0 | BM8: =BM7+1 -> 3 | BN8: =EDATE(BN7,1) -> 44378 | BO8: =BQ7-BR7 -> 0 | BP8: =IF($BR$3="",0,BO8*$BR$3/12) -> 0 | BQ8: =SUM(BO8:BP8) -> 0 | BR8: =IF(BQ8=0,0,IF(BQ8<BR7,BQ8,BR7)) -> 0 | BT8: =BT7+1 -> 3 | BU8: =EDATE(BU7,1) -> 44378 | BV8: =D8+K8+R8+Y8+AF8+AM8+AT8+BA8+BH8+BO8 -> 24746.376 | BW8: =E8+L8+S8+Z8+AG8+AN8+AU8+BB8+BI8+BP8 -> 383.50288 | BX8: =F8+M8+T8+AA8+AH8+AO8+AV8+BC8+BJ8+BQ8 -> 25129.879 | BY8: =G8+N8+U8+AB8+AI8+AP8+AW8+BD8+BK8+BR8 -> 624
B9: =B8+1 -> 4 | C9: =EDATE(C8,1) -> 44409 | D9: =F8-G8 -> 2882.349 | E9: =IF($G$3="",0,D9*$G$3/12) -> 70.977845 | F9: =SUM(D9:E9) -> 2953.3269 | G9: =IF(F9=0,0,IF(F9<G8,F9,G8)) -> 88 | I9: =I8+1 -> 4 | J9: =EDATE(J8,1) -> 44409 | K9: =M8-N8 -> 761.55908 | L9: =IF($N$3="",0,K9*$N$3/12) -> 15.237528 | M9: =SUM(K9:L9) -> 776.79661 | N9: =IF(M9=0,0,IF(M9<N8,M9,N8)) -> 40 | P9: =P8+1 -> 4 | Q9: =EDATE(Q8,1) -> 44409 | R9: =T8-U8 -> 6418.5048 | S9: =R9*$U$3/12 -> 92.052057 | T9: =SUM(R9:S9) -> 6510.5569 | U9: =IF(T9=0,0,IF(T9<U8,T9,U8)) -> 120 | W9: =W8+1 -> 4 | X9: =EDATE(X8,1) -> 44409 | Y9: =AA8-AB8 -> 13305.346 | Z9: =IF($AB$3="",0,Y9*$AB$3/12) -> 186.71835 | AA9: =SUM(Y9:Z9) -> 13492.064 | AB9: =IF(AA9=0,0,IF(AA9<AB8,AA9,AB8)) -> 340 | AD9: =AD8+1 -> 4 | AE9: =EDATE(AE8,1) -> 44409 | AF9: =AH8-AI8 -> 1138.1205 | AG9: =IF($AI$3="",0,AF9*$AI$3/12) -> 14.833503 | AH9: =SUM(AF9:AG9) -> 1152.954 | AI9: =IF(AH9=0,0,IF(AH9<AI8,AH9,AI8)) -> 36 | AK9: =AK8+1 -> 4 | AL9: =EDATE(AL8,1) -> 44409 | AM9: =AO8-AP8 -> 0 | AN9: =IF($AP$3="",0,AM9*$AP$3/12) -> 0 | AO9: =SUM(AM9:AN9) -> 0 | AP9: =IF(AO9=0,0,IF(AO9<AP8,AO9,AP8)) -> 0 | AR9: =AR8+1 -> 4 | AS9: =EDATE(AS8,1) -> 44409 | AT9: =AV8-AW8 -> 0 | AU9: =IF($AW$3="",0,AT9*$AW$3/12) -> 0 | AV9: =SUM(AT9:AU9) -> 0 | AW9: =IF(AV9=0,0,IF(AV9<AW8,AV9,AW8)) -> 0 | AY9: =AY8+1 -> 4 | AZ9: =EDATE(AZ8,1) -> 44409 | BA9: =BC8-BD8 -> 0 | BB9: =IF($BD$3="",0,BA9*$BD$3/12) -> 0 | BC9: =SUM(BA9:BB9) -> 0 | BD9: =IF(BC9=0,0,IF(BC9<BD8,BC9,BD8)) -> 0 | BF9: =BF8+1 -> 4 | BG9: =EDATE(BG8,1) -> 44409 | BH9: =BJ8-BK8 -> 0 | BI9: =IF($BK$3="",0,BH9*$BK$3/12) -> 0 | BJ9: =SUM(BH9:BI9) -> 0 | BK9: =IF(BJ9=0,0,IF(BJ9<BK8,BJ9,BK8)) -> 0 | BM9: =BM8+1 -> 4 | BN9: =EDATE(BN8,1) -> 44409 | BO9: =BQ8-BR8 -> 0 | BP9: =IF($BR$3="",0,BO9*$BR$3/12) -> 0 | BQ9: =SUM(BO9:BP9) -> 0 | BR9: =IF(BQ9=0,0,IF(BQ9<BR8,BQ9,BR8)) -> 0 | BT9: =BT8+1 -> 4 | BU9: =EDATE(BU8,1) -> 44409 | BV9: =D9+K9+R9+Y9+AF9+AM9+AT9+BA9+BH9+BO9 -> 24505.879 | BW9: =E9+L9+S9+Z9+AG9+AN9+AU9+BB9+BI9+BP9 -> 379.81928 | BX9: =F9+M9+T9+AA9+AH9+AO9+AV9+BC9+BJ9+BQ9 -> 24885.698 | BY9: =G9+N9+U9+AB9+AI9+AP9+AW9+BD9+BK9+BR9 -> 624
B10: =B9+1 -> 5 | C10: =EDATE(C9,1) -> 44440 | D10: =F9-G9 -> 2865.3269 | E10: =IF($G$3="",0,D10*$G$3/12) -> 70.558674 | F10: =SUM(D10:E10) -> 2935.8855 | G10: =IF(F10=0,0,IF(F10<G9,F10,G9)) -> 88 | I10: =I9+1 -> 5 | J10: =EDATE(J9,1) -> 44440 | K10: =M9-N9 -> 736.79661 | L10: =IF($N$3="",0,K10*$N$3/12) -> 14.742072 | M10: =SUM(K10:L10) -> 751.53868 | N10: =IF(M10=0,0,IF(M10<N9,M10,N9)) -> 40 | P10: =P9+1 -> 5 | Q10: =EDATE(Q9,1) -> 44440 | R10: =T9-U9 -> 6390.5569 | S10: =R10*$U$3/12 -> 91.651237 | T10: =SUM(R10:S10) -> 6482.2081 | U10: =IF(T10=0,0,IF(T10<U9,T10,U9)) -> 120 | W10: =W9+1 -> 5 | X10: =EDATE(X9,1) -> 44440 | Y10: =AA9-AB9 -> 13152.064 | Z10: =IF($AB$3="",0,Y10*$AB$3/12) -> 184.5673 | AA10: =SUM(Y10:Z10) -> 13336.631 | AB10: =IF(AA10=0,0,IF(AA10<AB9,AA10,AB9)) -> 340 | AD10: =AD9+1 -> 5 | AE10: =EDATE(AE9,1) -> 44440 | AF10: =AH9-AI9 -> 1116.954 | AG10: =IF($AI$3="",0,AF10*$AI$3/12) -> 14.557633 | AH10: =SUM(AF10:AG10) -> 1131.5116 | AI10: =IF(AH10=0,0,IF(AH10<AI9,AH10,AI9)) -> 36 | AK10: =AK9+1 -> 5 | AL10: =EDATE(AL9,1) -> 44440 | AM10: =AO9-AP9 -> 0 | AN10: =IF($AP$3="",0,AM10*$AP$3/12) -> 0 | AO10: =SUM(AM10:AN10) -> 0 | AP10: =IF(AO10=0,0,IF(AO10<AP9,AO10,AP9)) -> 0 | AR10: =AR9+1 -> 5 | AS10: =EDATE(AS9,1) -> 44440 | AT10: =AV9-AW9 -> 0 | AU10: =IF($AW$3="",0,AT10*$AW$3/12) -> 0 | AV10: =SUM(AT10:AU10) -> 0 | AW10: =IF(AV10=0,0,IF(AV10<AW9,AV10,AW9)) -> 0 | AY10: =AY9+1 -> 5 | AZ10: =EDATE(AZ9,1) -> 44440 | BA10: =BC9-BD9 -> 0 | BB10: =IF($BD$3="",0,BA10*$BD$3/12) -> 0 | BC10: =SUM(BA10:BB10) -> 0 | BD10: =IF(BC10=0,0,IF(BC10<BD9,BC10,BD9)) -> 0 | BF10: =BF9+1 -> 5 | BG10: =EDATE(BG9,1) -> 44440 | BH10: =BJ9-BK9 -> 0 | BI10: =IF($BK$3="",0,BH10*$BK$3/12) -> 0 | BJ10: =SUM(BH10:BI10) -> 0 | BK10: =IF(BJ10=0,0,IF(BJ10<BK9,BJ10,BK9)) -> 0 | BM10: =BM9+1 -> 5 | BN10: =EDATE(BN9,1) -> 44440 | BO10: =BQ9-BR9 -> 0 | BP10: =IF($BR$3="",0,BO10*$BR$3/12) -> 0 | BQ10: =SUM(BO10:BP10) -> 0 | BR10: =IF(BQ10=0,0,IF(BQ10<BR9,BQ10,BR9)) -> 0 | BT10: =BT9+1 -> 5 | BU10: =EDATE(BU9,1) -> 44440 | BV10: =D10+K10+R10+Y10+AF10+AM10+AT10+BA10+BH10+BO10 -> 24261.698 | BW10: =E10+L10+S10+Z10+AG10+AN10+AU10+BB10+BI10+BP10 -> 376.07692 | BX10: =F10+M10+T10+AA10+AH10+AO10+AV10+BC10+BJ10+BQ10 -> 24637.775 | BY10: =G10+N10+U10+AB10+AI10+AP10+AW10+BD10+BK10+BR10 -> 624
B11: =B10+1 -> 6 | C11: =EDATE(C10,1) -> 44470 | D11: =F10-G10 -> 2847.8855 | E11: =IF($G$3="",0,D11*$G$3/12) -> 70.129181 | F11: =SUM(D11:E11) -> 2918.0147 | G11: =IF(F11=0,0,IF(F11<G10,F11,G10)) -> 88 | I11: =I10+1 -> 6 | J11: =EDATE(J10,1) -> 44470 | K11: =M10-N10 -> 711.53868 | L11: =IF($N$3="",0,K11*$N$3/12) -> 14.236703 | M11: =SUM(K11:L11) -> 725.77538 | N11: =IF(M11=0,0,IF(M11<N10,M11,N10)) -> 40 | P11: =P10+1 -> 6 | Q11: =EDATE(Q10,1) -> 44470 | R11: =T10-U10 -> 6362.2081 | S11: =R11*$U$3/12 -> 91.244668 | T11: =SUM(R11:S11) -> 6453.4528 | U11: =IF(T11=0,0,IF(T11<U10,T11,U10)) -> 120 | W11: =W10+1 -> 6 | X11: =EDATE(X10,1) -> 44470 | Y11: =AA10-AB10 -> 12996.631 | Z11: =IF($AB$3="",0,Y11*$AB$3/12) -> 182.38606 | AA11: =SUM(Y11:Z11) -> 13179.017 | AB11: =IF(AA11=0,0,IF(AA11<AB10,AA11,AB10)) -> 340 | AD11: =AD10+1 -> 6 | AE11: =EDATE(AE10,1) -> 44470 | AF11: =AH10-AI10 -> 1095.5116 | AG11: =IF($AI$3="",0,AF11*$AI$3/12) -> 14.278168 | AH11: =SUM(AF11:AG11) -> 1109.7898 | AI11: =IF(AH11=0,0,IF(AH11<AI10,AH11,AI10)) -> 36 | AK11: =AK10+1 -> 6 | AL11: =EDATE(AL10,1) -> 44470 | AM11: =AO10-AP10 -> 0 | AN11: =IF($AP$3="",0,AM11*$AP$3/12) -> 0 | AO11: =SUM(AM11:AN11) -> 0 | AP11: =IF(AO11=0,0,IF(AO11<AP10,AO11,AP10)) -> 0 | AR11: =AR10+1 -> 6 | AS11: =EDATE(AS10,1) -> 44470 | AT11: =AV10-AW10 -> 0 | AU11: =IF($AW$3="",0,AT11*$AW$3/12) -> 0 | AV11: =SUM(AT11:AU11) -> 0 | AW11: =IF(AV11=0,0,IF(AV11<AW10,AV11,AW10)) -> 0 | AY11: =AY10+1 -> 6 | AZ11: =EDATE(AZ10,1) -> 44470 | BA11: =BC10-BD10 -> 0 | BB11: =IF($BD$3="",0,BA11*$BD$3/12) -> 0 | BC11: =SUM(BA11:BB11) -> 0 | BD11: =IF(BC11=0,0,IF(BC11<BD10,BC11,BD10)) -> 0 | BF11: =BF10+1 -> 6 | BG11: =EDATE(BG10,1) -> 44470 | BH11: =BJ10-BK10 -> 0 | BI11: =IF($BK$3="",0,BH11*$BK$3/12) -> 0 | BJ11: =SUM(BH11:BI11) -> 0 | BK11: =IF(BJ11=0,0,IF(BJ11<BK10,BJ11,BK10)) -> 0 | BM11: =BM10+1 -> 6 | BN11: =EDATE(BN10,1) -> 44470 | BO11: =BQ10-BR10 -> 0 | BP11: =IF($BR$3="",0,BO11*$BR$3/12) -> 0 | BQ11: =SUM(BO11:BP11) -> 0 | BR11: =IF(BQ11=0,0,IF(BQ11<BR10,BQ11,BR10)) -> 0 | BT11: =BT10+1 -> 6 | BU11: =EDATE(BU10,1) -> 44470 | BV11: =D11+K11+R11+Y11+AF11+AM11+AT11+BA11+BH11+BO11 -> 24013.775 | BW11: =E11+L11+S11+Z11+AG11+AN11+AU11+BB11+BI11+BP11 -> 372.27478 | BX11: =F11+M11+T11+AA11+AH11+AO11+AV11+BC11+BJ11+BQ11 -> 24386.05 | BY11: =G11+N11+U11+AB11+AI11+AP11+AW11+BD11+BK11+BR11 -> 624
B12: =B11+1 -> 7 | C12: =EDATE(C11,1) -> 44501 | D12: =F11-G11 -> 2830.0147 | E12: =IF($G$3="",0,D12*$G$3/12) -> 69.689113 | F12: =SUM(D12:E12) -> 2899.7038 | G12: =IF(F12=0,0,IF(F12<G11,F12,G11)) -> 88 | I12: =I11+1 -> 7 | J12: =EDATE(J11,1) -> 44501 | K12: =M11-N11 -> 685.77538 | L12: =IF($N$3="",0,K12*$N$3/12) -> 13.721222 | M12: =SUM(K12:L12) -> 699.49661 | N12: =IF(M12=0,0,IF(M12<N11,M12,N11)) -> 40 | P12: =P11+1 -> 7 | Q12: =EDATE(Q11,1) -> 44501 | R12: =T11-U11 -> 6333.4528 | S12: =R12*$U$3/12 -> 90.832269 | T12: =SUM(R12:S12) -> 6424.285 | U12: =IF(T12=0,0,IF(T12<U11,T12,U11)) -> 120 | W12: =W11+1 -> 7 | X12: =EDATE(X11,1) -> 44501 | Y12: =AA11-AB11 -> 12839.017 | Z12: =IF($AB$3="",0,Y12*$AB$3/12) -> 180.17421 | AA12: =SUM(Y12:Z12) -> 13019.192 | AB12: =IF(AA12=0,0,IF(AA12<AB11,AA12,AB11)) -> 340 | AD12: =AD11+1 -> 7 | AE12: =EDATE(AE11,1) -> 44501 | AF12: =AH11-AI11 -> 1073.7898 | AG12: =IF($AI$3="",0,AF12*$AI$3/12) -> 13.99506 | AH12: =SUM(AF12:AG12) -> 1087.7848 | AI12: =IF(AH12=0,0,IF(AH12<AI11,AH12,AI11)) -> 36 | AK12: =AK11+1 -> 7 | AL12: =EDATE(AL11,1) -> 44501 | AM12: =AO11-AP11 -> 0 | AN12: =IF($AP$3="",0,AM12*$AP$3/12) -> 0 | AO12: =SUM(AM12:AN12) -> 0 | AP12: =IF(AO12=0,0,IF(AO12<AP11,AO12,AP11)) -> 0 | AR12: =AR11+1 -> 7 | AS12: =EDATE(AS11,1) -> 44501 | AT12: =AV11-AW11 -> 0 | AU12: =IF($AW$3="",0,AT12*$AW$3/12) -> 0 | AV12: =SUM(AT12:AU12) -> 0 | AW12: =IF(AV12=0,0,IF(AV12<AW11,AV12,AW11)) -> 0 | AY12: =AY11+1 -> 7 | AZ12: =EDATE(AZ11,1) -> 44501 | BA12: =BC11-BD11 -> 0 | BB12: =IF($BD$3="",0,BA12*$BD$3/12) -> 0 | BC12: =SUM(BA12:BB12) -> 0 | BD12: =IF(BC12=0,0,IF(BC12<BD11,BC12,BD11)) -> 0 | BF12: =BF11+1 -> 7 | BG12: =EDATE(BG11,1) -> 44501 | BH12: =BJ11-BK11 -> 0 | BI12: =IF($BK$3="",0,BH12*$BK$3/12) -> 0 | BJ12: =SUM(BH12:BI12) -> 0 | BK12: =IF(BJ12=0,0,IF(BJ12<BK11,BJ12,BK11)) -> 0 | BM12: =BM11+1 -> 7 | BN12: =EDATE(BN11,1) -> 44501 | BO12: =BQ11-BR11 -> 0 | BP12: =IF($BR$3="",0,BO12*$BR$3/12) -> 0 | BQ12: =SUM(BO12:BP12) -> 0 | BR12: =IF(BQ12=0,0,IF(BQ12<BR11,BQ12,BR11)) -> 0 | BT12: =BT11+1 -> 7 | BU12: =EDATE(BU11,1) -> 44501 | BV12: =D12+K12+R12+Y12+AF12+AM12+AT12+BA12+BH12+BO12 -> 23762.05 | BW12: =E12+L12+S12+Z12+AG12+AN12+AU12+BB12+BI12+BP12 -> 368.41188 | BX12: =F12+M12+T12+AA12+AH12+AO12+AV12+BC12+BJ12+BQ12 -> 24130.462 | BY12: =G12+N12+U12+AB12+AI12+AP12+AW12+BD12+BK12+BR12 -> 624
B13: =B12+1 -> 8 | C13: =EDATE(C12,1) -> 44531 | D13: =F12-G12 -> 2811.7038 | E13: =IF($G$3="",0,D13*$G$3/12) -> 69.238207 | F13: =SUM(D13:E13) -> 2880.942 | G13: =IF(F13=0,0,IF(F13<G12,F13,G12)) -> 88 | I13: =I12+1 -> 8 | J13: =EDATE(J12,1) -> 44531 | K13: =M12-N12 -> 659.49661 | L13: =IF($N$3="",0,K13*$N$3/12) -> 13.195428 | M13: =SUM(K13:L13) -> 672.69203 | N13: =IF(M13=0,0,IF(M13<N12,M13,N12)) -> 40 | P13: =P12+1 -> 8 | Q13: =EDATE(Q12,1) -> 44531 | R13: =T12-U12 -> 6304.285 | S13: =R13*$U$3/12 -> 90.413955 | T13: =SUM(R13:S13) -> 6394.699 | U13: =IF(T13=0,0,IF(T13<U12,T13,U12)) -> 120 | W13: =W12+1 -> 8 | X13: =EDATE(X12,1) -> 44531 | Y13: =AA12-AB12 -> 12679.192 | Z13: =IF($AB$3="",0,Y13*$AB$3/12) -> 177.93132 | AA13: =SUM(Y13:Z13) -> 12857.123 | AB13: =IF(AA13=0,0,IF(AA13<AB12,AA13,AB12)) -> 340 | AD13: =AD12+1 -> 8 | AE13: =EDATE(AE12,1) -> 44531 | AF13: =AH12-AI12 -> 1051.7848 | AG13: =IF($AI$3="",0,AF13*$AI$3/12) -> 13.708262 | AH13: =SUM(AF13:AG13) -> 1065.4931 | AI13: =IF(AH13=0,0,IF(AH13<AI12,AH13,AI12)) -> 36 | AK13: =AK12+1 -> 8 | AL13: =EDATE(AL12,1) -> 44531 | AM13: =AO12-AP12 -> 0 | AN13: =IF($AP$3="",0,AM13*$AP$3/12) -> 0 | AO13: =SUM(AM13:AN13) -> 0 | AP13: =IF(AO13=0,0,IF(AO13<AP12,AO13,AP12)) -> 0 | AR13: =AR12+1 -> 8 | AS13: =EDATE(AS12,1) -> 44531 | AT13: =AV12-AW12 -> 0 | AU13: =IF($AW$3="",0,AT13*$AW$3/12) -> 0 | AV13: =SUM(AT13:AU13) -> 0 | AW13: =IF(AV13=0,0,IF(AV13<AW12,AV13,AW12)) -> 0 | AY13: =AY12+1 -> 8 | AZ13: =EDATE(AZ12,1) -> 44531 | BA13: =BC12-BD12 -> 0 | BB13: =IF($BD$3="",0,BA13*$BD$3/12) -> 0 | BC13: =SUM(BA13:BB13) -> 0 | BD13: =IF(BC13=0,0,IF(BC13<BD12,BC13,BD12)) -> 0 | BF13: =BF12+1 -> 8 | BG13: =EDATE(BG12,1) -> 44531 | BH13: =BJ12-BK12 -> 0 | BI13: =IF($BK$3="",0,BH13*$BK$3/12) -> 0 | BJ13: =SUM(BH13:BI13) -> 0 | BK13: =IF(BJ13=0,0,IF(BJ13<BK12,BJ13,BK12)) -> 0 | BM13: =BM12+1 -> 8 | BN13: =EDATE(BN12,1) -> 44531 | BO13: =BQ12-BR12 -> 0 | BP13: =IF($BR$3="",0,BO13*$BR$3/12) -> 0 | BQ13: =SUM(BO13:BP13) -> 0 | BR13: =IF(BQ13=0,0,IF(BQ13<BR12,BQ13,BR12)) -> 0 | BT13: =BT12+1 -> 8 | BU13: =EDATE(BU12,1) -> 44531 | BV13: =D13+K13+R13+Y13+AF13+AM13+AT13+BA13+BH13+BO13 -> 23506.462 | BW13: =E13+L13+S13+Z13+AG13+AN13+AU13+BB13+BI13+BP13 -> 364.48717 | BX13: =F13+M13+T13+AA13+AH13+AO13+AV13+BC13+BJ13+BQ13 -> 23870.949 | BY13: =G13+N13+U13+AB13+AI13+AP13+AW13+BD13+BK13+BR13 -> 624
B14: =B13+1 -> 9 | C14: =EDATE(C13,1) -> 44562 | D14: =F13-G13 -> 2792.942 | E14: =IF($G$3="",0,D14*$G$3/12) -> 68.776198 | F14: =SUM(D14:E14) -> 2861.7182 | G14: =IF(F14=0,0,IF(F14<G13,F14,G13)) -> 88 | I14: =I13+1 -> 9 | J14: =EDATE(J13,1) -> 44562 | K14: =M13-N13 -> 632.69203 | L14: =IF($N$3="",0,K14*$N$3/12) -> 12.659113 | M14: =SUM(K14:L14) -> 645.35115 | N14: =IF(M14=0,0,IF(M14<N13,M14,N13)) -> 40 | P14: =P13+1 -> 9 | Q14: =EDATE(Q13,1) -> 44562 | R14: =T13-U13 -> 6274.699 | S14: =R14*$U$3/12 -> 89.989642 | T14: =SUM(R14:S14) -> 6364.6886 | U14: =IF(T14=0,0,IF(T14<U13,T14,U13)) -> 120 | W14: =W13+1 -> 9 | X14: =EDATE(X13,1) -> 44562 | Y14: =AA13-AB13 -> 12517.123 | Z14: =IF($AB$3="",0,Y14*$AB$3/12) -> 175.65696 | AA14: =SUM(Y14:Z14) -> 12692.78 | AB14: =IF(AA14=0,0,IF(AA14<AB13,AA14,AB13)) -> 340 | AD14: =AD13+1 -> 9 | AE14: =EDATE(AE13,1) -> 44562 | AF14: =AH13-AI13 -> 1029.4931 | AG14: =IF($AI$3="",0,AF14*$AI$3/12) -> 13.417727 | AH14: =SUM(AF14:AG14) -> 1042.9108 | AI14: =IF(AH14=0,0,IF(AH14<AI13,AH14,AI13)) -> 36 | AK14: =AK13+1 -> 9 | AL14: =EDATE(AL13,1) -> 44562 | AM14: =AO13-AP13 -> 0 | AN14: =IF($AP$3="",0,AM14*$AP$3/12) -> 0 | AO14: =SUM(AM14:AN14) -> 0 | AP14: =IF(AO14=0,0,IF(AO14<AP13,AO14,AP13)) -> 0 | AR14: =AR13+1 -> 9 | AS14: =EDATE(AS13,1) -> 44562 | AT14: =AV13-AW13 -> 0 | AU14: =IF($AW$3="",0,AT14*$AW$3/12) -> 0 | AV14: =SUM(AT14:AU14) -> 0 | AW14: =IF(AV14=0,0,IF(AV14<AW13,AV14,AW13)) -> 0 | AY14: =AY13+1 -> 9 | AZ14: =EDATE(AZ13,1) -> 44562 | BA14: =BC13-BD13 -> 0 | BB14: =IF($BD$3="",0,BA14*$BD$3/12) -> 0 | BC14: =SUM(BA14:BB14) -> 0 | BD14: =IF(BC14=0,0,IF(BC14<BD13,BC14,BD13)) -> 0 | BF14: =BF13+1 -> 9 | BG14: =EDATE(BG13,1) -> 44562 | BH14: =BJ13-BK13 -> 0 | BI14: =IF($BK$3="",0,BH14*$BK$3/12) -> 0 | BJ14: =SUM(BH14:BI14) -> 0 | BK14: =IF(BJ14=0,0,IF(BJ14<BK13,BJ14,BK13)) -> 0 | BM14: =BM13+1 -> 9 | BN14: =EDATE(BN13,1) -> 44562 | BO14: =BQ13-BR13 -> 0 | BP14: =IF($BR$3="",0,BO14*$BR$3/12) -> 0 | BQ14: =SUM(BO14:BP14) -> 0 | BR14: =IF(BQ14=0,0,IF(BQ14<BR13,BQ14,BR13)) -> 0 | BT14: =BT13+1 -> 9 | BU14: =EDATE(BU13,1) -> 44562 | BV14: =D14+K14+R14+Y14+AF14+AM14+AT14+BA14+BH14+BO14 -> 23246.949 | BW14: =E14+L14+S14+Z14+AG14+AN14+AU14+BB14+BI14+BP14 -> 360.49964 | BX14: =F14+M14+T14+AA14+AH14+AO14+AV14+BC14+BJ14+BQ14 -> 23607.449 | BY14: =G14+N14+U14+AB14+AI14+AP14+AW14+BD14+BK14+BR14 -> 624
B15: =B14+1 -> 10 | C15: =EDATE(C14,1) -> 44593 | D15: =F14-G14 -> 2773.7182 | E15: =IF($G$3="",0,D15*$G$3/12) -> 68.302812 | F15: =SUM(D15:E15) -> 2842.0211 | G15: =IF(F15=0,0,IF(F15<G14,F15,G14)) -> 88 | I15: =I14+1 -> 10 | J15: =EDATE(J14,1) -> 44593 | K15: =M14-N14 -> 605.35115 | L15: =IF($N$3="",0,K15*$N$3/12) -> 12.112068 | M15: =SUM(K15:L15) -> 617.46321 | N15: =IF(M15=0,0,IF(M15<N14,M15,N14)) -> 40 | P15: =P14+1 -> 10 | Q15: =EDATE(Q14,1) -> 44593 | R15: =T14-U14 -> 6244.6886 | S15: =R15*$U$3/12 -> 89.559243 | T15: =SUM(R15:S15) -> 6334.2479 | U15: =IF(T15=0,0,IF(T15<U14,T15,U14)) -> 120 | W15: =W14+1 -> 10 | X15: =EDATE(X14,1) -> 44593 | Y15: =AA14-AB14 -> 12352.78 | Z15: =IF($AB$3="",0,Y15*$AB$3/12) -> 173.35068 | AA15: =SUM(Y15:Z15) -> 12526.131 | AB15: =IF(AA15=0,0,IF(AA15<AB14,AA15,AB14)) -> 340 | AD15: =AD14+1 -> 10 | AE15: =EDATE(AE14,1) -> 44593 | AF15: =AH14-AI14 -> 1006.9108 | AG15: =IF($AI$3="",0,AF15*$AI$3/12) -> 13.123404 | AH15: =SUM(AF15:AG15) -> 1020.0342 | AI15: =IF(AH15=0,0,IF(AH15<AI14,AH15,AI14)) -> 36 | AK15: =AK14+1 -> 10 | AL15: =EDATE(AL14,1) -> 44593 | AM15: =AO14-AP14 -> 0 | AN15: =IF($AP$3="",0,AM15*$AP$3/12) -> 0 | AO15: =SUM(AM15:AN15) -> 0 | AP15: =IF(AO15=0,0,IF(AO15<AP14,AO15,AP14)) -> 0 | AR15: =AR14+1 -> 10 | AS15: =EDATE(AS14,1) -> 44593 | AT15: =AV14-AW14 -> 0 | AU15: =IF($AW$3="",0,AT15*$AW$3/12) -> 0 | AV15: =SUM(AT15:AU15) -> 0 | AW15: =IF(AV15=0,0,IF(AV15<AW14,AV15,AW14)) -> 0 | AY15: =AY14+1 -> 10 | AZ15: =EDATE(AZ14,1) -> 44593 | BA15: =BC14-BD14 -> 0 | BB15: =IF($BD$3="",0,BA15*$BD$3/12) -> 0 | BC15: =SUM(BA15:BB15) -> 0 | BD15: =IF(BC15=0,0,IF(BC15<BD14,BC15,BD14)) -> 0 | BF15: =BF14+1 -> 10 | BG15: =EDATE(BG14,1) -> 44593 | BH15: =BJ14-BK14 -> 0 | BI15: =IF($BK$3="",0,BH15*$BK$3/12) -> 0 | BJ15: =SUM(BH15:BI15) -> 0 | BK15: =IF(BJ15=0,0,IF(BJ15<BK14,BJ15,BK14)) -> 0 | BM15: =BM14+1 -> 10 | BN15: =EDATE(BN14,1) -> 44593 | BO15: =BQ14-BR14 -> 0 | BP15: =IF($BR$3="",0,BO15*$BR$3/12) -> 0 | BQ15: =SUM(BO15:BP15) -> 0 | BR15: =IF(BQ15=0,0,IF(BQ15<BR14,BQ15,BR14)) -> 0 | BT15: =BT14+1 -> 10 | BU15: =EDATE(BU14,1) -> 44593 | BV15: =D15+K15+R15+Y15+AF15+AM15+AT15+BA15+BH15+BO15 -> 22983.449 | BW15: =E15+L15+S15+Z15+AG15+AN15+AU15+BB15+BI15+BP15 -> 356.44821 | BX15: =F15+M15+T15+AA15+AH15+AO15+AV15+BC15+BJ15+BQ15 -> 23339.897 | BY15: =G15+N15+U15+AB15+AI15+AP15+AW15+BD15+BK15+BR15 -> 624
B16: =B15+1 -> 11 | C16: =EDATE(C15,1) -> 44621 | D16: =F15-G15 -> 2754.0211 | E16: =IF($G$3="",0,D16*$G$3/12) -> 67.817768 | F16: =SUM(D16:E16) -> 2821.8388 | G16: =IF(F16=0,0,IF(F16<G15,F16,G15)) -> 88 | I16: =I15+1 -> 11 | J16: =EDATE(J15,1) -> 44621 | K16: =M15-N15 -> 577.46321 | L16: =IF($N$3="",0,K16*$N$3/12) -> 11.554076 | M16: =SUM(K16:L16) -> 589.01729 | N16: =IF(M16=0,0,IF(M16<N15,M16,N15)) -> 40 | P16: =P15+1 -> 11 | Q16: =EDATE(Q15,1) -> 44621 | R16: =T15-U15 -> 6214.2479 | S16: =R16*$U$3/12 -> 89.122672 | T16: =SUM(R16:S16) -> 6303.3706 | U16: =IF(T16=0,0,IF(T16<U15,T16,U15)) -> 120 | W16: =W15+1 -> 11 | X16: =EDATE(X15,1) -> 44621 | Y16: =AA15-AB15 -> 12186.131 | Z16: =IF($AB$3="",0,Y16*$AB$3/12) -> 171.01203 | AA16: =SUM(Y16:Z16) -> 12357.143 | AB16: =IF(AA16=0,0,IF(AA16<AB15,AA16,AB15)) -> 340 | AD16: =AD15+1 -> 11 | AE16: =EDATE(AE15,1) -> 44621 | AF16: =AH15-AI15 -> 984.03422 | AG16: =IF($AI$3="",0,AF16*$AI$3/12) -> 12.825246 | AH16: =SUM(AF16:AG16) -> 996.85947 | AI16: =IF(AH16=0,0,IF(AH16<AI15,AH16,AI15)) -> 36 | AK16: =AK15+1 -> 11 | AL16: =EDATE(AL15,1) -> 44621 | AM16: =AO15-AP15 -> 0 | AN16: =IF($AP$3="",0,AM16*$AP$3/12) -> 0 | AO16: =SUM(AM16:AN16) -> 0 | AP16: =IF(AO16=0,0,IF(AO16<AP15,AO16,AP15)) -> 0 | AR16: =AR15+1 -> 11 | AS16: =EDATE(AS15,1) -> 44621 | AT16: =AV15-AW15 -> 0 | AU16: =IF($AW$3="",0,AT16*$AW$3/12) -> 0 | AV16: =SUM(AT16:AU16) -> 0 | AW16: =IF(AV16=0,0,IF(AV16<AW15,AV16,AW15)) -> 0 | AY16: =AY15+1 -> 11 | AZ16: =EDATE(AZ15,1) -> 44621 | BA16: =BC15-BD15 -> 0 | BB16: =IF($BD$3="",0,BA16*$BD$3/12) -> 0 | BC16: =SUM(BA16:BB16) -> 0 | BD16: =IF(BC16=0,0,IF(BC16<BD15,BC16,BD15)) -> 0 | BF16: =BF15+1 -> 11 | BG16: =EDATE(BG15,1) -> 44621 | BH16: =BJ15-BK15 -> 0 | BI16: =IF($BK$3="",0,BH16*$BK$3/12) -> 0 | BJ16: =SUM(BH16:BI16) -> 0 | BK16: =IF(BJ16=0,0,IF(BJ16<BK15,BJ16,BK15)) -> 0 | BM16: =BM15+1 -> 11 | BN16: =EDATE(BN15,1) -> 44621 | BO16: =BQ15-BR15 -> 0 | BP16: =IF($BR$3="",0,BO16*$BR$3/12) -> 0 | BQ16: =SUM(BO16:BP16) -> 0 | BR16: =IF(BQ16=0,0,IF(BQ16<BR15,BQ16,BR15)) -> 0 | BT16: =BT15+1 -> 11 | BU16: =EDATE(BU15,1) -> 44621 | BV16: =D16+K16+R16+Y16+AF16+AM16+AT16+BA16+BH16+BO16 -> 22715.897 | BW16: =E16+L16+S16+Z16+AG16+AN16+AU16+BB16+BI16+BP16 -> 352.3318 | BX16: =F16+M16+T16+AA16+AH16+AO16+AV16+BC16+BJ16+BQ16 -> 23068.229 | BY16: =G16+N16+U16+AB16+AI16+AP16+AW16+BD16+BK16+BR16 -> 624
B17: =B16+1 -> 12 | C17: =EDATE(C16,1) -> 44652 | D17: =F16-G16 -> 2733.8388 | E17: =IF($G$3="",0,D17*$G$3/12) -> 67.320781 | F17: =SUM(D17:E17) -> 2801.1596 | G17: =IF(F17=0,0,IF(F17<G16,F17,G16)) -> 88 | I17: =I16+1 -> 12 | J17: =EDATE(J16,1) -> 44652 | K17: =M16-N16 -> 549.01729 | L17: =IF($N$3="",0,K17*$N$3/12) -> 10.984921 | M17: =SUM(K17:L17) -> 560.00221 | N17: =IF(M17=0,0,IF(M17<N16,M17,N16)) -> 40 | P17: =P16+1 -> 12 | Q17: =EDATE(Q16,1) -> 44652 | R17: =T16-U16 -> 6183.3706 | S17: =R17*$U$3/12 -> 88.679839 | T17: =SUM(R17:S17) -> 6272.0504 | U17: =IF(T17=0,0,IF(T17<U16,T17,U16)) -> 120 | W17: =W16+1 -> 12 | X17: =EDATE(X16,1) -> 44652 | Y17: =AA16-AB16 -> 12017.143 | Z17: =IF($AB$3="",0,Y17*$AB$3/12) -> 168.64057 | AA17: =SUM(Y17:Z17) -> 12185.783 | AB17: =IF(AA17=0,0,IF(AA17<AB16,AA17,AB16)) -> 340 | AD17: =AD16+1 -> 12 | AE17: =EDATE(AE16,1) -> 44652 | AF17: =AH16-AI16 -> 960.85947 | AG17: =IF($AI$3="",0,AF17*$AI$3/12) -> 12.523202 | AH17: =SUM(AF17:AG17) -> 973.38267 | AI17: =IF(AH17=0,0,IF(AH17<AI16,AH17,AI16)) -> 36 | AK17: =AK16+1 -> 12 | AL17: =EDATE(AL16,1) -> 44652 | AM17: =AO16-AP16 -> 0 | AN17: =IF($AP$3="",0,AM17*$AP$3/12) -> 0 | AO17: =SUM(AM17:AN17) -> 0 | AP17: =IF(AO17=0,0,IF(AO17<AP16,AO17,AP16)) -> 0 | AR17: =AR16+1 -> 12 | AS17: =EDATE(AS16,1) -> 44652 | AT17: =AV16-AW16 -> 0 | AU17: =IF($AW$3="",0,AT17*$AW$3/12) -> 0 | AV17: =SUM(AT17:AU17) -> 0 | AW17: =IF(AV17=0,0,IF(AV17<AW16,AV17,AW16)) -> 0 | AY17: =AY16+1 -> 12 | AZ17: =EDATE(AZ16,1) -> 44652 | BA17: =BC16-BD16 -> 0 | BB17: =IF($BD$3="",0,BA17*$BD$3/12) -> 0 | BC17: =SUM(BA17:BB17) -> 0 | BD17: =IF(BC17=0,0,IF(BC17<BD16,BC17,BD16)) -> 0 | BF17: =BF16+1 -> 12 | BG17: =EDATE(BG16,1) -> 44652 | BH17: =BJ16-BK16 -> 0 | BI17: =IF($BK$3="",0,BH17*$BK$3/12) -> 0 | BJ17: =SUM(BH17:BI17) -> 0 | BK17: =IF(BJ17=0,0,IF(BJ17<BK16,BJ17,BK16)) -> 0 | BM17: =BM16+1 -> 12 | BN17: =EDATE(BN16,1) -> 44652 | BO17: =BQ16-BR16 -> 0 | BP17: =IF($BR$3="",0,BO17*$BR$3/12) -> 0 | BQ17: =SUM(BO17:BP17) -> 0 | BR17: =IF(BQ17=0,0,IF(BQ17<BR16,BQ17,BR16)) -> 0 | BT17: =BT16+1 -> 12 | BU17: =EDATE(BU16,1) -> 44652 | BV17: =D17+K17+R17+Y17+AF17+AM17+AT17+BA17+BH17+BO17 -> 22444.229 | BW17: =E17+L17+S17+Z17+AG17+AN17+AU17+BB17+BI17+BP17 -> 348.14931 | BX17: =F17+M17+T17+AA17+AH17+AO17+AV17+BC17+BJ17+BQ17 -> 22792.378 | BY17: =G17+N17+U17+AB17+AI17+AP17+AW17+BD17+BK17+BR17 -> 624
B18: =B17+1 -> 13 | C18: =EDATE(C17,1) -> 44682 | D18: =F17-G17 -> 2713.1596 | E18: =IF($G$3="",0,D18*$G$3/12) -> 66.811555 | F18: =SUM(D18:E18) -> 2779.9712 | G18: =IF(F18=0,0,IF(F18<G17,F18,G17)) -> 88 | I18: =I17+1 -> 13 | J18: =EDATE(J17,1) -> 44682 | K18: =M17-N17 -> 520.00221 | L18: =IF($N$3="",0,K18*$N$3/12) -> 10.404378 | M18: =SUM(K18:L18) -> 530.40659 | N18: =IF(M18=0,0,IF(M18<N17,M18,N17)) -> 40 | P18: =P17+1 -> 13 | Q18: =EDATE(Q17,1) -> 44682 | R18: =T17-U17 -> 6152.0504 | S18: =R18*$U$3/12 -> 88.230656 | T18: =SUM(R18:S18) -> 6240.2811 | U18: =IF(T18=0,0,IF(T18<U17,T18,U17)) -> 120 | W18: =W17+1 -> 13 | X18: =EDATE(X17,1) -> 44682 | Y18: =AA17-AB17 -> 11845.783 | Z18: =IF($AB$3="",0,Y18*$AB$3/12) -> 166.23582 | AA18: =SUM(Y18:Z18) -> 12012.019 | AB18: =IF(AA18=0,0,IF(AA18<AB17,AA18,AB17)) -> 340 | AD18: =AD17+1 -> 13 | AE18: =EDATE(AE17,1) -> 44682 | AF18: =AH17-AI17 -> 937.38267 | AG18: =IF($AI$3="",0,AF18*$AI$3/12) -> 12.217221 | AH18: =SUM(AF18:AG18) -> 949.59989 | AI18: =IF(AH18=0,0,IF(AH18<AI17,AH18,AI17)) -> 36 | AK18: =AK17+1 -> 13 | AL18: =EDATE(AL17,1) -> 44682 | AM18: =AO17-AP17 -> 0 | AN18: =IF($AP$3="",0,AM18*$AP$3/12) -> 0 | AO18: =SUM(AM18:AN18) -> 0 | AP18: =IF(AO18=0,0,IF(AO18<AP17,AO18,AP17)) -> 0 | AR18: =AR17+1 -> 13 | AS18: =EDATE(AS17,1) -> 44682 | AT18: =AV17-AW17 -> 0 | AU18: =IF($AW$3="",0,AT18*$AW$3/12) -> 0 | AV18: =SUM(AT18:AU18) -> 0 | AW18: =IF(AV18=0,0,IF(AV18<AW17,AV18,AW17)) -> 0 | AY18: =AY17+1 -> 13 | AZ18: =EDATE(AZ17,1) -> 44682 | BA18: =BC17-BD17 -> 0 | BB18: =IF($BD$3="",0,BA18*$BD$3/12) -> 0 | BC18: =SUM(BA18:BB18) -> 0 | BD18: =IF(BC18=0,0,IF(BC18<BD17,BC18,BD17)) -> 0 | BF18: =BF17+1 -> 13 | BG18: =EDATE(BG17,1) -> 44682 | BH18: =BJ17-BK17 -> 0 | BI18: =IF($BK$3="",0,BH18*$BK$3/12) -> 0 | BJ18: =SUM(BH18:BI18) -> 0 | BK18: =IF(BJ18=0,0,IF(BJ18<BK17,BJ18,BK17)) -> 0 | BM18: =BM17+1 -> 13 | BN18: =EDATE(BN17,1) -> 44682 | BO18: =BQ17-BR17 -> 0 | BP18: =IF($BR$3="",0,BO18*$BR$3/12) -> 0 | BQ18: =SUM(BO18:BP18) -> 0 | BR18: =IF(BQ18=0,0,IF(BQ18<BR17,BQ18,BR17)) -> 0 | BT18: =BT17+1 -> 13 | BU18: =EDATE(BU17,1) -> 44682 | BV18: =D18+K18+R18+Y18+AF18+AM18+AT18+BA18+BH18+BO18 -> 22168.378 | BW18: =E18+L18+S18+Z18+AG18+AN18+AU18+BB18+BI18+BP18 -> 343.89963 | BX18: =F18+M18+T18+AA18+AH18+AO18+AV18+BC18+BJ18+BQ18 -> 22512.278 | BY18: =G18+N18+U18+AB18+AI18+AP18+AW18+BD18+BK18+BR18 -> 624
... B125: =B124+1 -> 120 | C125: =EDATE(C124,1) -> 47939 | D125: =F124-G124 -> 0 | E125: =IF($G$3="",0,D125*$G$3/12) -> 0 | F125: =SUM(D125:E125) -> 0 | G125: =IF(F125=0,0,IF(F125<G124,F125,G124)) -> 0 | I125: =I124+1 -> 120 | J125: =EDATE(J124,1) -> 47939 | K125: =M124-N124 -> 0 | L125: =IF($N$3="",0,K125*$N$3/12) -> 0 | M125: =SUM(K125:L125) -> 0 | N125: =IF(M125=0,0,IF(M125<N124,M125,N124)) -> 0 | P125: =P124+1 -> 120 | Q125: =EDATE(Q124,1) -> 47939 | R125: =T124-U124 -> 0 | S125: =R125*$U$3/12 -> 0 | T125: =SUM(R125:S125) -> 0 | U125: =IF(T125=0,0,IF(T125<U124,T125,U124)) -> 0 | W125: =W124+1 -> 120 | X125: =EDATE(X124,1) -> 47939 | Y125: =AA124-AB124 -> 0 | Z125: =IF($AB$3="",0,Y125*$AB$3/12) -> 0 | AA125: =SUM(Y125:Z125) -> 0 | AB125: =IF(AA125=0,0,IF(AA125<AB124,AA125,AB124)) -> 0 | AD125: =AD124+1 -> 120 | AE125: =EDATE(AE124,1) -> 47939 | AF125: =AH124-AI124 -> 0 | AG125: =IF($AI$3="",0,AF125*$AI$3/12) -> 0 | AH125: =SUM(AF125:AG125) -> 0 | AI125: =IF(AH125=0,0,IF(AH125<AI124,AH125,AI124)) -> 0 | AK125: =AK124+1 -> 120 | AL125: =EDATE(AL124,1) -> 47939 | AM125: =AO124-AP124 -> 0 | AN125: =IF($AP$3="",0,AM125*$AP$3/12) -> 0 | AO125: =SUM(AM125:AN125) -> 0 | AP125: =IF(AO125=0,0,IF(AO125<AP124,AO125,AP124)) -> 0 | AR125: =AR124+1 -> 120 | AS125: =EDATE(AS124,1) -> 47939 | AT125: =AV124-AW124 -> 0 | AU125: =IF($AW$3="",0,AT125*$AW$3/12) -> 0 | AV125: =SUM(AT125:AU125) -> 0 | AW125: =IF(AV125=0,0,IF(AV125<AW124,AV125,AW124)) -> 0 | AY125: =AY124+1 -> 120 | AZ125: =EDATE(AZ124,1) -> 47939 | BA125: =BC124-BD124 -> 0 | BB125: =IF($BD$3="",0,BA125*$BD$3/12) -> 0 | BC125: =SUM(BA125:BB125) -> 0 | BD125: =IF(BC125=0,0,IF(BC125<BD124,BC125,BD124)) -> 0 | BF125: =BF124+1 -> 120 | BG125: =EDATE(BG124,1) -> 47939 | BH125: =BJ124-BK124 -> 0 | BI125: =IF($BK$3="",0,BH125*$BK$3/12) -> 0 | BJ125: =SUM(BH125:BI125) -> 0 | BK125: =IF(BJ125=0,0,IF(BJ125<BK124,BJ125,BK124)) -> 0 | BM125: =BM124+1 -> 120 | BN125: =EDATE(BN124,1) -> 47939 | BO125: =BQ124-BR124 -> 0 | BP125: =IF($BR$3="",0,BO125*$BR$3/12) -> 0 | BQ125: =SUM(BO125:BP125) -> 0 | BR125: =IF(BQ125=0,0,IF(BQ125<BR124,BQ125,BR124)) -> 0 | BT125: =BT124+1 -> 120 | BU125: =EDATE(BU124,1) -> 47939 | BV125: =D125+K125+R125+Y125+AF125+AM125+AT125+BA125+BH125+BO125 -> 0 | BW125: =E125+L125+S125+Z125+AG125+AN125+AU125+BB125+BI125+BP125 -> 0 | BX125: =F125+M125+T125+AA125+AH125+AO125+AV125+BC125+BJ125+BQ125 -> 0 | BY125: =G125+N125+U125+AB125+AI125+AP125+AW125+BD125+BK125+BR125 -> 0
E126: =SUM(E6:E125) -> 3276.0495 | G126: =SUM(G6:G125) -> 6207.0495 | L126: =SUM(L6:L125) -> 255.35527 | N126: =SUM(N6:N125) -> 1088.3253 | S126: =SUM(S6:S125) -> 6139.7014 | U126: =SUM(U6:U125) -> 12639.701 | Z126: =SUM(Z6:Z125) -> 6704.5777 | AB126: =SUM(AB6:AB125) -> 20457.158 | AG126: =SUM(AG6:AG125) -> 384.51765 | AI126: =SUM(AI6:AI125) -> 1584.5176 | AN126: =SUM(AN6:AN125) -> 0 | AP126: =SUM(AP6:AP125) -> 0 | AU126: =SUM(AU6:AU125) -> 0 | AW126: =SUM(AW6:AW125) -> 0 | BB126: =SUM(BB6:BB125) -> 0 | BD126: =SUM(BD6:BD125) -> 0 | BI126: =SUM(BI6:BI125) -> 0 | BK126: =SUM(BK6:BK125) -> 0 | BP126: =SUM(BP6:BP125) -> 0 | BR126: =SUM(BR6:BR125) -> 0 | BW126: =SUM(BW6:BW125) -> 16760.202 | BY126: =SUM(BY6:BY125) -> 41976.752

Sheet Extra Payment Schedule
B1: =Summary!AI3 -> American Express | K1: =Summary!AI4 -> Discover | T1: =Summary!AI5 -> Chase | AC1: =Summary!AI6 -> Citi Bank | AL1: =Summary!AI7 -> Bank of America | AU1: =Summary!AI8 | BD1: =Summary!AI9 | BM1: =Summary!AI10 | BV1: =Summary!AI11 | CE1: =Summary!AI12 | CN1: Total
B2: Beginning Balance | G2: =Summary!AJ3 -> 2931 | K2: Beginning Balance | P2: =Summary!AJ4 -> 832.97 | T2: Beginning Balance | Y2: =Summary!AJ5 -> 6500 | AC2: Beginning Balance | AH2: =Summary!AJ6 -> 13752.58 | AL2: Beginning Balance | AQ2: =Summary!AJ7 -> 1200 | AU2: Beginning Balance | AZ2: =Summary!AJ8 | BD2: Beginning Balance | BI2: =Summary!AJ9 | BM2: Beginning Balance | BR2: =Summary!AJ10 | BV2: Beginning Balance | CA2: =Summary!AJ11 | CE2: Beginning Balance | CJ2: =Summary!AJ12 | CN2: Beginning Balance | CS2: =G2+P2+Y2+AH2+AQ2+AZ2+BI2+BR2+CA2+CJ2 -> #VALUE!
B3: Annual Percentage Rate (APR) | G3: =Summary!AL3 -> 0.2955 | K3: Annual Percentage Rate (APR) | P3: =Summary!AL4 -> 0.2401 | T3: Annual Percentage Rate (APR) | Y3: =Summary!AL5 -> 0.1721 | AC3: Annual Percentage Rate (APR) | AH3: =Summary!AL6 -> 0.1684 | AL3: Annual Percentage Rate (APR) | AQ3: =Summary!AL7 -> 0.1564 | AU3: Annual Percentage Rate (APR) | AZ3: =Summary!AL8 | BD3: Annual Percentage Rate (APR) | BI3: =Summary!AL9 | BM3: Annual Percentage Rate (APR) | BR3: =Summary!AL10 | BV3: Annual Percentage Rate (APR) | CA3: =Summary!AL11 | CE3: Annual Percentage Rate (APR) | CJ3: =Summary!AL12 | CN3: Annual Percentage Rate (APR) | CS3: =AVERAGE(G3,P3,Y3,AH3,AQ3,AZ3,BI3,BR3,CA3,CJ3) -> 0.2065
B4: Minimum Payment | G4: =Summary!AK3 -> 88 | K4: Minimum Payment | P4: =Summary!AK4 -> 40 | T4: Minimum Payment | Y4: =Summary!AK5 -> 120 | AC4: Minimum Payment | AH4: =Summary!AK6 -> 340 | AL4: Minimum Payment | AQ4: =Summary!AK7 -> 36 | AU4: Minimum Payment | AZ4: =Summary!AK8 | BD4: Minimum Payment | BI4: =Summary!AK9 | BM4: Minimum Payment | BR4: =Summary!AK10 | BV4: Minimum Payment | CA4: =Summary!AK11 | CE4: Minimum Payment | CJ4: =Summary!AK12 | CN4: Minimum Payment | CS4: =G4+P4+Y4+AH4+AQ4+AZ4+BI4+BR4+CA4+CJ4 -> #VALUE!
B5: S. No. | C5: Month | D5: Starting Balance | E5: Finance Charges | F5: New Balance | G5: Minimum Payment | H5: Extra Payment | I5: Suggested Payment | K5: S. No. | L5: Month | M5: Starting Balance | N5: Finance Charges | O5: New Balance | P5: Minimum Payment | Q5: Extra Payment | R5: Suggested Payment | T5: S. No. | U5: Month | V5: Starting Balance | W5: Finance Charges | X5: New Balance | Y5: Minimum Payment | Z5: Extra Payment | AA5: Suggested Payment | AC5: S. No. | AD5: Month | AE5: Starting Balance | AF5: Finance Charges | AG5: New Balance | AH5: Minimum Payment | AI5: Extra Payment | AJ5: Suggested Payment | AL5: S. No. | AM5: Month | AN5: Starting Balance | AO5: Finance Charges | AP5: New Balance | AQ5: Minimum Payment | AR5: Extra Payment | AS5: Suggested Payment | AU5: S. No. | AV5: Month | AW5: Starting Balance | AX5: Finance Charges | AY5: New Balance | AZ5: Minimum Payment | BA5: Extra Payment | BB5: Suggested Payment | BD5: S. No. | BE5: Month | BF5: Starting Balance | BG5: Finance Charges | BH5: New Balance | BI5: Minimum Payment | BJ5: Extra Payment | BK5: Suggested Payment | BM5: S. No. | BN5: Month | BO5: Starting Balance | BP5: Finance Charges | BQ5: New Balance | BR5: Minimum Payment | BS5: Extra Payment | BT5: Suggested Payment | BV5: S. No. | BW5: Month | BX5: Starting Balance | BY5: Finance Charges | BZ5: New Balance | CA5: Minimum Payment | CB5: Extra Payment | CC5: Suggested Payment | CE5: S. No. | CF5: Month | CG5: Starting Balance | CH5: Finance Charges | CI5: New Balance | CJ5: Minimum Payment | CK5: Extra Payment | CL5: Suggested Payment | CN5: S. No. | CO5: Month | CP5: Starting Balance | CQ5: Finance Charges | CR5: New Balance | CS5: Minimum Payment | CT5: Extra Payment | CU5: Suggested Payment
